BEGIN:VCALENDAR
PRODID:NingEventWidget-v1
VERSION:2.0
METHOD:PUBLISH
BEGIN:VTIMEZONE
TZID:Pacific/Midway
X-LIC-LOCATION:Pacific/Midway
BEGIN:STANDARD
TZOFFSETFROM:-1100
TZOFFSETTO:-1100
TZNAME:SST
DTSTART:19700101T000000
END:STANDARD
END:VTIMEZONE
BEGIN:VEVENT
UID:3646443:Event:109711
DTSTAMP:20260419T125442Z
SUMMARY:Making Better Bales
DESCRIPTION:Grey County Agricultural Services is hosting \"Making Bett
 er Bales\" at Valleykirk Farms near Owen Sound on Monday June 20th fro
 m 1-3 pm.\nThis is a free, informative event about producing the best 
 quality bales with the fewest baling headaches.\nLearn about cutting t
 ime, baling techniques, net wrap and twine application, and machinery 
 set up for successful baling. This event is a spin-off from a winter c
 ourse planned by Grey Ag Services. It is open to anyone who would like
  to attend and there is no cost.\nPresentations will be made by: Natha
 n Ficzere and Alain Gratton of Tama Canada, and Earthpower Tractor wit
 h equipment in field.\nAll are welcome to attend but must pre-register
  with Grey Ag Services by emailing info@greyagervices.ca or calling 51
 9-986-3756. \n\nFor more information visit https://ontag.farms.com/ev
 ents/making-better-bales
DTSTART;TZID=Pacific/Midway:20220620T130000
DTEND;TZID=Pacific/Midway:20220620T150000
CATEGORIES:in-field, seminar
LOCATION:Owen Sound
WEBSITE:https://www.greyagservices.ca/
URL:https://www.greyagservices.ca/
CONTACT:5199863756
ORGANIZER;CN="Grey Bruce Farmers' Week":https://ontag.farms.com/profil
 e/GreyBruceFarmersWeek
ATTACH;FMTTYPE="image/jpeg":
ATTENDEE;ROLE=REQ-PARTICIPANT;PARTSTAT=ACCEPTED;RSVP=TRUE;CN="Grey Bru
 ce Farmers' Week":https://ontag.farms.com/profile/GreyBruceFarmersWeek
END:VEVENT
END:VCALENDAR
