BEGIN:VCALENDAR
PRODID:NingEventWidget-v1
VERSION:2.0
METHOD:PUBLISH
BEGIN:VTIMEZONE
TZID:Pacific/Midway
X-LIC-LOCATION:Pacific/Midway
BEGIN:STANDARD
TZOFFSETFROM:-1100
TZOFFSETTO:-1100
TZNAME:SST
DTSTART:19700101T000000
END:STANDARD
END:VTIMEZONE
BEGIN:VEVENT
UID:3646443:Event:74781
DTSTAMP:20260420T204953Z
SUMMARY:Making Sense of Weed Management
DESCRIPTION:Participants will be given the tools to differentiate betw
 een the various crop protection products for corn, soybean, dry bean, 
 forages/pastures and cereals so that they can determine what is best f
 or their own operation. With hundreds of products on the market it can
  be difficult to identify which ones are truly new and unique and whic
 h ones are just \nrecycled brands. Participants will also have an opp
 ortunity to develop strategies to manage their worst yield limiting we
 eds.  Facilitated by Mike Cowbrough, Weed Management Specialist, OMAF
 RA\nREGISTRATION IS REQUIRED - please see attached poster or www.greya
 gservices.ca\n$25.00 per person Hot Lunch Provided\nPre-Register By: F
 ri. Mar. 1st, 2019\n \n\nFor more information visit https://ontag.far
 ms.com/events/making-sense-of-weed-management
DTSTART;TZID=Pacific/Midway:20190307T110000
DTEND;TZID=Pacific/Midway:20190307T130000
CATEGORIES:day, course
LOCATION:Grey Ag Services, Lower level of Grey Gables, rear entrance
WEBSITE:http://www.greyagservices.ca
URL:http://www.greyagservices.ca
CONTACT:5199863756
ORGANIZER:Grey Ag Services
ATTACH;FMTTYPE="image/jpeg":https://storage.ning.com/topology/rest/1.0
 /file/get/830034725?profile=original
ATTENDEE;ROLE=REQ-PARTICIPANT;PARTSTAT=ACCEPTED;RSVP=TRUE;CN="Grey Bru
 ce Farmers' Week":https://ontag.farms.com/profile/GreyBruceFarmersWeek
END:VEVENT
END:VCALENDAR
