BEGIN:VCALENDAR
PRODID:NingEventWidget-v1
VERSION:2.0
METHOD:PUBLISH
BEGIN:VTIMEZONE
TZID:Pacific/Midway
X-LIC-LOCATION:Pacific/Midway
BEGIN:STANDARD
TZOFFSETFROM:-1100
TZOFFSETTO:-1100
TZNAME:SST
DTSTART:19700101T000000
END:STANDARD
END:VTIMEZONE
BEGIN:VEVENT
UID:3646443:Event:31273
DTSTAMP:20260423T083736Z
SUMMARY:March Soil Test Clinics
DESCRIPTION:Soil TestÂ Clinics\nBack by popular demand! 2012 Dates are
  in the works with OMAFRAâ€™s Bonnie Ball & Peter Johnson- keep checki
 ng here and listen to the Cropline (1-888-449-0937) for updates over t
 he next few weeks!\n\nMarch 5Â Ancaster Â details and registration atÂ
  www.oscia.cloverpad.org\nMarch 6Â Haldimand NorlfolkÂ details and reg
 istration atÂ www.oscia.cloverpad.org\nMarch 14Â RidgetownÂ 1-4 pm Fre
 e for OSCIA members, $20 for non-members (includes one year membership
 ). To register go to www.oscia.cloverpad.org or contact Krista Gladsto
 ne viaÂ emailÂ Â or 519-674-1500 ext 63597 or Cathy at 519-463-9737\nM
 arch 14Â St Thomas (evening) details to come\nMarch 16Â Mt Forest deta
 ils to come\nThanks to A&L Labs, Stratford Agri-Analysis and Agri Food
  Labs for their support in 2011 and again in 2012!!!\n\n\nFor more inf
 ormation visit https://ontag.farms.com/events/march-soil-test-clinics-
 1
DTSTART;TZID=Pacific/Midway:20120305T140000
DTEND;TZID=Pacific/Midway:20120305T170000
CATEGORIES:soil, test, clinic
LOCATION:check website
WEBSITE:http://tvrscia.wordpress.com/soil-test-clinics/
URL:http://tvrscia.wordpress.com/soil-test-clinics/
CONTACT:
ORGANIZER:TVRSCIA
ATTACH;FMTTYPE="image/jpeg":
ATTENDEE;ROLE=REQ-PARTICIPANT;PARTSTAT=ACCEPTED;RSVP=TRUE;CN="OntAG Ad
 min":https://ontag.farms.com/profile/OntAGAdmin
END:VEVENT
END:VCALENDAR
