BEGIN:VCALENDAR
PRODID:NingEventWidget-v1
VERSION:2.0
METHOD:PUBLISH
BEGIN:VTIMEZONE
TZID:Pacific/Midway
X-LIC-LOCATION:Pacific/Midway
BEGIN:STANDARD
TZOFFSETFROM:-1100
TZOFFSETTO:-1100
TZNAME:SST
DTSTART:19700101T000000
END:STANDARD
END:VTIMEZONE
BEGIN:VEVENT
UID:3646443:Event:78479
DTSTAMP:20260421T094212Z
SUMMARY:Marketing and Economics of Cow-Calf Production
DESCRIPTION:Facilitated by Steve Duff, John Molenhuis, James Byrne, Me
 gan Van Schaik (OMAFRA) \n$30 at the door, includes lunch\nPreregistr
 ation Required call or email info@greyagservices.ca\n\nFor more inform
 ation visit https://ontag.farms.com/events/marketing-and-economics-of-
 cow-calf-production
DTSTART;TZID=Pacific/Midway:20200324T100000
DTEND;TZID=Pacific/Midway:20200324T143000
CATEGORIES:agricultural, education, course
LOCATION:Grey Ag Services, Lower level of Grey Gables, rear entrance
WEBSITE:http://www.greyagservices.ca
URL:http://www.greyagservices.ca
CONTACT:5199863756
ORGANIZER:Grey Agricultutural Services
ATTACH;FMTTYPE="image/jpeg":https://storage.ning.com/topology/rest/1.0
 /file/get/3831367356?profile=original
ATTENDEE;ROLE=REQ-PARTICIPANT;PARTSTAT=ACCEPTED;RSVP=TRUE;CN="Grey Bru
 ce Farmers' Week":https://ontag.farms.com/profile/GreyBruceFarmersWeek
END:VEVENT
END:VCALENDAR
