BEGIN:VCALENDAR
PRODID:NingEventWidget-v1
VERSION:2.0
METHOD:PUBLISH
BEGIN:VTIMEZONE
TZID:Pacific/Midway
X-LIC-LOCATION:Pacific/Midway
BEGIN:STANDARD
TZOFFSETFROM:-1100
TZOFFSETTO:-1100
TZNAME:SST
DTSTART:19700101T000000
END:STANDARD
END:VTIMEZONE
BEGIN:VEVENT
UID:3646443:Event:7335
DTSTAMP:20260419T123605Z
SUMMARY:Marketing Workshop 2010 - Innovative Farmers of Ontario
DESCRIPTION:$75 per person\n\nPrice includes all workshop sessions, co
 ntinental breakfast, and hearty lunch.\n\nMake sure you don't miss any
  of this idea-filled session.\n\nPhilip Shaw (Contributing Editor, DTN
 )\nMarket Outlook\nOur keynote speaker delivers a comprehensive look a
 t futures prices, trends, volatility, projections for acres in 2011, p
 lus other factors which may affect grain pricing going into 2011.\n\nP
 hillip will also speak on the Ontario basis for all three grains with 
 specific emphasis on basis for corn and soybeans.\n\nRichard Vyn (Univ
 ersity of Guelph, Ridgetown)\nMarketing Strategies That Work\nFocusing
  primarily on corn and soybeans, Richard presents his research compari
 ng the returns over time from a variety of marketing strategies to det
 ermine which types tend to work best.\n\nGwen Paddock (Royal Bank of C
 anada)\nManaging and Measuring Farm Business Financial Performance Gwe
 n explores factors impacting the profitability of farm businesses and 
 discusses how risk management strategies and understanding the key mea
 sures of financial performance can help farmers in these volatile time
 s.\n\nFor more details, see the Marketing Workshop printable flyer.\n\
 nFor more information visit https://ontag.farms.com/events/marketing-w
 orkshop-2010
DTSTART;TZID=Pacific/Midway:20101209T090000
DTEND;TZID=Pacific/Midway:20101209T150000
CATEGORIES:workshop
LOCATION:Holiday Inn
WEBSITE:http://www.ifao.com/PDFs/MM2010FlyerFront.pdf
URL:http://www.ifao.com/PDFs/MM2010FlyerFront.pdf
CONTACT:519-986-3560
ORGANIZER;CN="OntAG Admin":https://ontag.farms.com/profile/OntAGAdmin
ATTACH;FMTTYPE="image/jpeg":
ATTENDEE;ROLE=REQ-PARTICIPANT;PARTSTAT=ACCEPTED;RSVP=TRUE;CN="OntAG Ad
 min":https://ontag.farms.com/profile/OntAGAdmin
END:VEVENT
END:VCALENDAR
