BEGIN:VCALENDAR
PRODID:NingEventWidget-v1
VERSION:2.0
METHOD:PUBLISH
BEGIN:VTIMEZONE
TZID:Pacific/Midway
X-LIC-LOCATION:Pacific/Midway
BEGIN:STANDARD
TZOFFSETFROM:-1100
TZOFFSETTO:-1100
TZNAME:SST
DTSTART:19700101T000000
END:STANDARD
END:VTIMEZONE
BEGIN:VEVENT
UID:3646443:Event:66425
DTSTAMP:20260422T044356Z
SUMMARY:Martin Drainage Grand Opening
DESCRIPTION:\n\nFor more information visit https://ontag.farms.com/eve
 nts/martin-drainage-grand-opening
DTSTART;TZID=Pacific/Midway:20160723T100000
DTEND;TZID=Pacific/Midway:20160723T150000
CATEGORIES:grand, opening
LOCATION:Arthur
WEBSITE:
URL:
CONTACT:
ORGANIZER;CN="Jasmyn Brouwers":https://ontag.farms.com/profile/JasmynB
 rouwers
ATTACH;FMTTYPE="image/jpeg":http://storage.ning.com/topology/rest/1.0/
 file/get/1091544544?profile=original
ATTENDEE;ROLE=REQ-PARTICIPANT;PARTSTAT=ACCEPTED;RSVP=TRUE;CN="Jasmyn B
 rouwers":https://ontag.farms.com/profile/JasmynBrouwers
END:VEVENT
END:VCALENDAR
