BEGIN:VCALENDAR
PRODID:NingEventWidget-v1
VERSION:2.0
METHOD:PUBLISH
BEGIN:VTIMEZONE
TZID:Pacific/Midway
X-LIC-LOCATION:Pacific/Midway
BEGIN:STANDARD
TZOFFSETFROM:-1100
TZOFFSETTO:-1100
TZNAME:SST
DTSTART:19700101T000000
END:STANDARD
END:VTIMEZONE
BEGIN:VEVENT
UID:3646443:Event:74703
DTSTAMP:20260422T095838Z
SUMMARY:Maximizing Your Social Media Results
DESCRIPTION:This workshop will provide an introduction to the major so
 cial media platforms and will provide strategies for how to be success
 ful with each. Topics covered will include gearing your message to the
  appropriate audience, ways to automate your marketing, optimizing pos
 ting frequency, tips and tricks for content development, mitigating tr
 olling and understanding the available options for paid support. Cours
 e facilitator will be Kelly Ward, Supervisor of Brand Services for Foo
 dland Ontario.\nREGISTRATION IS REQUIRED please see attached poster or
  www.greyagservices.ca\n$15.00 per person\nPre-Register By: Fri. Feb. 
 22nd, 2019\n \n\nFor more information visit https://ontag.farms.com/e
 vents/maximizing-your-social-media-results
DTSTART;TZID=Pacific/Midway:20190227T133000
DTEND;TZID=Pacific/Midway:20190227T163000
CATEGORIES:day, course
LOCATION:Grey Ag Services, Lower level of Grey Gables, rear entrance
WEBSITE:http://www.greyagservices.ca
URL:http://www.greyagservices.ca
CONTACT:5199863756
ORGANIZER:Grey Ag Services
ATTACH;FMTTYPE="image/jpeg":https://storage.ning.com/topology/rest/1.0
 /file/get/829835680?profile=original
ATTENDEE;ROLE=REQ-PARTICIPANT;PARTSTAT=ACCEPTED;RSVP=TRUE;CN="Grey Bru
 ce Farmers' Week":https://ontag.farms.com/profile/GreyBruceFarmersWeek
END:VEVENT
END:VCALENDAR
