BEGIN:VCALENDAR
PRODID:NingEventWidget-v1
VERSION:2.0
METHOD:PUBLISH
BEGIN:VTIMEZONE
TZID:Pacific/Midway
X-LIC-LOCATION:Pacific/Midway
BEGIN:STANDARD
TZOFFSETFROM:-1100
TZOFFSETTO:-1100
TZNAME:SST
DTSTART:19700101T000000
END:STANDARD
END:VTIMEZONE
BEGIN:VEVENT
UID:3646443:Event:32538
DTSTAMP:20260420T150951Z
SUMMARY:Me & You @ Rendezvous II - Red & White Holstein Convention
DESCRIPTION:Red & White Holstein enthusiasts are invited to attend Me 
 & You @ Rendezvous II from August 13-16 at the facilities of David Car
 son Farms & Auctions, Listowel, ON.\nHosted by the Canadian Red & Whit
 e Holstein Club, this event is the annual convention for the U.S.-base
 d Red & White Dairy Cattle Association. Visitors from several countrie
 s, U.S. states, and Canadian provinces are already booked to attend.\n
 Event highlights:\nbus tour to farms & St. Jacobs: Aug. 14th\nRed & Wh
 ite Holstein Sale: Aug. 15th, 10 a.m. start\n(catalogues will be onlin
 e at www.davidcarson.on.ca)\nConvention banquet: Aug. 15th,  6:30 p.m
 . (at Listowel Agricultural Hall)\nRed & White Holstein Show: Aug. 16t
 h, 9 a.m. start\n(For bus trip and banquet tickets call 519-829-8440.)
 \n\nFor more information visit https://ontag.farms.com/events/me-you-r
 endezvous-ii-red-white-holstein-convention
DTSTART;TZID=Pacific/Midway:20120813T000000
DTEND;TZID=Pacific/Midway:20120816T235900
CATEGORIES:red, "&", white, holstein, bus, trip, sale, banquet, show
LOCATION:David Carson Farms & Auctions
WEBSITE:http://www.facebook.com/me&you@rendezvousII
URL:http://www.facebook.com/me&you@rendezvousII
CONTACT:For information call: 519-363-3677
ORGANIZER:Canadian Red & White Holstein Club
ATTACH;FMTTYPE="image/jpeg":http://storage.ning.com/topology/rest/1.0/
 file/get/1091514451?profile=original
ATTENDEE;ROLE=REQ-PARTICIPANT;PARTSTAT=ACCEPTED;RSVP=TRUE;CN="Tara Rey
 nolds":https://ontag.farms.com/profile/TaraReynolds
END:VEVENT
END:VCALENDAR
