BEGIN:VCALENDAR
PRODID:NingEventWidget-v1
VERSION:2.0
METHOD:PUBLISH
BEGIN:VTIMEZONE
TZID:Pacific/Midway
X-LIC-LOCATION:Pacific/Midway
BEGIN:STANDARD
TZOFFSETFROM:-1100
TZOFFSETTO:-1100
TZNAME:SST
DTSTART:19700101T000000
END:STANDARD
END:VTIMEZONE
BEGIN:VEVENT
UID:3646443:Event:112707
DTSTAMP:20260420T211948Z
SUMMARY:You are invited to Breakfast on the Farm
DESCRIPTION:– On August 26, 2023, Farm & Food Care Ontario (FFCO) an
 d local farmers and volunteers at Ripplebrook Farm will host Breakfast
  on the Farm.  A $5 registration fee for guests will be refunded upon
  their arrival, making the event free of charge for all visitors.\r\nA
 bout Breakfast on the Farm:\r\nThis family-friendly event provides a u
 nique opportunity for farmers and non‐farming Ontarians to have a co
 nversation about food and farming. It gives visitors a chance to visit
  real, working farms, provides a showcase for agriculture and allows n
 on-farmers to have their questions answered by real farmers.\r\nAfter 
 being treated to an all-Ontario breakfast, visitors can tour a dairy f
 arm and enjoy interactive stops around the farm, including displays, a
 ctivities and exhibits showcasing other types of Ontario farms. Ontari
 o farmers will be on hand to answer guests’ questions about food and
  farming.\r\nSince 2013, farm families across Ontario have opened thei
 r farms to host Breakfast on the Farm events. These popular experience
 s have attracted thousands of urban and suburban visitors to local far
 ms across the province. For the past two years, FFCO hosted drive-thro
 ugh and walkthrough events with local fairs as host locations to meet 
 COVID-19 safety guidelines. For 2023’s events, FFCO is returning to 
 the on-farm format.\r\nBreakfast from the Farm is made possible with h
 ost Ripplebrook Farm (The MacLean Family) and the support of local agr
 i-businesses and organizations.\r\nHarm farm: Ripplebrook Farm is home
  to 280 animals and a lot of heart. Their herd of 130 milking cows is 
 milked three times daily in a modern free-stall dairy barn. The farm i
 s also home to seven show-winning quarter horses. Crops on the farm ar
 e grown on over 900 acres of land and include alfalfa, barley, wheat, 
 corn and soybeans.\r\nThe MacLean family is looking forward to opening
  their farm gates to provide an opportunity for you to chat with farme
 rs and take a tour of their farm.  To pre-register as a VIP media gues
 t, email events@farmfoodcare.org  Event Details: Date: Saturday, Augus
 t 26, 2023  Location: 7836A County Road 2 Napanee, ON K7R 3K6 9:00 a.m
 . to 12:00 noon ** Special parking for media will be available when at
 tendance is confirmed.  For further information: Christa Ormiston, Com
 munications Manager,  519-837-1326, extension 221; (cell) 519-766- 556
 1; christa@farmfoodcare.org\n\nFor more information visit https://onta
 g.farms.com/events/media-invited-to-attend-breakfast-on-the-farm
DTSTART;TZID=Pacific/Midway:20230826T090000
DTEND;TZID=Pacific/Midway:20230826T120000
CATEGORIES:breakfast, on, the, farm
LOCATION:7836A County Road 2 Napanee,
WEBSITE:http://www.FarmFoodCareON.org
URL:http://www.FarmFoodCareON.org
CONTACT:519-837-1326, extension 221; (cell) 519-766- 5561
ORGANIZER;CN="OntAG Admin":https://ontag.farms.com/profile/OntAGAdmin
ATTACH;FMTTYPE="image/jpeg":https://storage.ning.com/topology/rest/1.0
 /file/get/12167983871?profile=original
ATTENDEE;ROLE=REQ-PARTICIPANT;PARTSTAT=ACCEPTED;RSVP=TRUE;CN="OntAG Ad
 min":https://ontag.farms.com/profile/OntAGAdmin
END:VEVENT
END:VCALENDAR
