BEGIN:VCALENDAR
PRODID:NingEventWidget-v1
VERSION:2.0
METHOD:PUBLISH
BEGIN:VTIMEZONE
TZID:Pacific/Midway
X-LIC-LOCATION:Pacific/Midway
BEGIN:STANDARD
TZOFFSETFROM:-1100
TZOFFSETTO:-1100
TZNAME:SST
DTSTART:19700101T000000
END:STANDARD
END:VTIMEZONE
BEGIN:VEVENT
UID:3646443:Event:59873
DTSTAMP:20260421T094524Z
SUMMARY:Microsoft Excel Training
DESCRIPTION:Facilitator: Jenny Peel, Clare Creek Business Management\n
 Learn how to enter your information in a spreadsheet format enabling y
 ou to perform a variety of management tasks such as:  tracking income
 s and expenses for a Profit & Loss Statement; monitoring crop input c
 osts per field vs income generated for that field; and reviewing lives
 tock performance for productivity, rate of gain, profit cycle, and cul
 ling.  Jenny Peel, will facilitate this interactive session.  This w
 ill be a hands on your lap top, step by step course. It is strongly en
 couraged that participants bring laptops with the Microsoft Excel   
 program installed, to the course. Come armed with your questions.\nDat
 e: Monday February 9th, 2015\nTime: 9:30 a.m. to 12:00 pm\nCost: $60 p
 er person\nPre-Register By: Feb. 2, 2015\nwww.greyagservices.ca for in
 formation on more winter courses available \n \n\nFor more informati
 on visit https://ontag.farms.com/events/microsoft-excel-training
DTSTART;TZID=Pacific/Midway:20150209T093000
DTEND;TZID=Pacific/Midway:20150209T120000
CATEGORIES:information, session
LOCATION:Grey Ag Services Boardroom
WEBSITE:https://www.google.ca/maps/place/206+Toronto+St+S,+Markdale,+O
 N+N0C+1H0/@44.3139665,-80.6402805,17z/data=!3m1!4b1!4m2!3m1!1s0x882a22
 a90f79b813:0x93d22000995990a5
URL:https://www.google.ca/maps/place/206+Toronto+St+S,+Markdale,+ON+N0
 C+1H0/@44.3139665,-80.6402805,17z/data=!3m1!4b1!4m2!3m1!1s0x882a22a90f
 79b813:0x93d22000995990a5
CONTACT:(519)986-3756
ORGANIZER:Grey Ag Services
ATTACH;FMTTYPE="image/jpeg":
ATTENDEE;ROLE=REQ-PARTICIPANT;PARTSTAT=ACCEPTED;RSVP=TRUE;CN="Grey Bru
 ce Farmers' Week":https://ontag.farms.com/profile/GreyBruceFarmersWeek
END:VEVENT
END:VCALENDAR
