BEGIN:VCALENDAR
PRODID:NingEventWidget-v1
VERSION:2.0
METHOD:PUBLISH
BEGIN:VTIMEZONE
TZID:Pacific/Midway
X-LIC-LOCATION:Pacific/Midway
BEGIN:STANDARD
TZOFFSETFROM:-1100
TZOFFSETTO:-1100
TZNAME:SST
DTSTART:19700101T000000
END:STANDARD
END:VTIMEZONE
BEGIN:VEVENT
UID:3646443:Event:21278
DTSTAMP:20260421T113434Z
SUMMARY:Middlesex Conservation Tour - Tues Aug 16 2011
DESCRIPTION:Tues Aug 16 4:30 pm\nBarbecue 5 pm for $5.00\n \nhttp://t
 vrscia.wordpress.com/2011/08/02/middlesex-conservation-tour-info/\n \
 nField ToursLatest GPS Technology Demonstration\nBedding with Green Ma
 nure – Mike Vanlogtenstein, Dairylane\nStorm Water Management & Gras
 s Water Ways – Ross Wilson, ABCAEquipment DemonstrationsStatic Displ
 ays\nDriveshed Theatre at Dusk Open Forum – Peter Johnson- Other S
 pecialists\n \n Host Farm:   Todd Jenken, 24126 Adelaide St. N., R
 . 2, Denfield \n\nFor more information visit https://ontag.farms.com/
 events/middlesex-conservation-tour
DTSTART;TZID=Pacific/Midway:20110816T163000
DTEND;TZID=Pacific/Midway:20110816T190000
CATEGORIES:convervation, tour
LOCATION:Middlesex County
WEBSITE:http://maps.google.ca/maps?q=24126+Adelaide+St+N,+Denfield,+Mi
 ddlesex+County,+Ontario+N0M+1P0&hl=en&sll=49.95122,-97.119141&sspn=44.
 685308,38.583984&geocode=FQ2nkgIdvB4n-w&z=16
URL:http://maps.google.ca/maps?q=24126+Adelaide+St+N,+Denfield,+Middle
 sex+County,+Ontario+N0M+1P0&hl=en&sll=49.95122,-97.119141&sspn=44.6853
 08,38.583984&geocode=FQ2nkgIdvB4n-w&z=16
CONTACT:
ORGANIZER:Middlesex Soil & Crop Conservation Tour
ATTACH;FMTTYPE="image/jpeg":http://storage.ning.com/topology/rest/1.0/
 file/get/1091512449?profile=original
ATTENDEE;ROLE=REQ-PARTICIPANT;PARTSTAT=ACCEPTED;RSVP=TRUE;CN="Mackenna
  Roth":https://ontag.farms.com/profile/MackennaRoth
END:VEVENT
END:VCALENDAR
