BEGIN:VCALENDAR
PRODID:NingEventWidget-v1
VERSION:2.0
METHOD:PUBLISH
BEGIN:VTIMEZONE
TZID:Pacific/Midway
X-LIC-LOCATION:Pacific/Midway
BEGIN:STANDARD
TZOFFSETFROM:-1100
TZOFFSETTO:-1100
TZNAME:SST
DTSTART:19700101T000000
END:STANDARD
END:VTIMEZONE
BEGIN:VEVENT
UID:3646443:Event:32243
DTSTAMP:20260422T185736Z
SUMMARY:Middlesex Pork Prod, Mtg. “Hog Futures Fall Unseasonal.”
DESCRIPTION:INVITATION TO PRODUCERS:\nWHAT: General Meeting and dinner
 \n\nWHO: Guest Speaker Maurizio (Moe) Agostino, Managing Commodity Str
 ategist, Farms.com Risk Management - “Hog Futures Fall Unseasonal.
  Ontario Pork Update\n\nWHERE: Crabby Joe’s - 323 Caradoc St., St
 rathroy\n WHEN: Monday June 4th, 2012 @ 7:00 for Pork Rib buffet dinne
 r. 7:30 for meeting.\n COST: $10.00 includes dinner. Cash bar.\n RSVP:
  By Friday May 25th to Allison Van Asseldonk @ 519 232 4553 or ava_jv
 a@isp.ca\n\nFor more information visit https://ontag.farms.com/events/
 middlesex-pork-prod-mtg-hog-futures-fall-unseasonal
DTSTART;TZID=Pacific/Midway:20120604T190000
DTEND;TZID=Pacific/Midway:20120604T200000
CATEGORIES:general, meeting, and, speaker
LOCATION:Crabby Joe’s
WEBSITE:
URL:
CONTACT:Allison Van Asseldonk @ 519 232 4553 or ava_jva@isp.ca
ORGANIZER:Middlesex Pork Producers
ATTACH;FMTTYPE="image/jpeg":http://storage.ning.com/topology/rest/1.0/
 file/get/1091516517?profile=original
ATTENDEE;ROLE=REQ-PARTICIPANT;PARTSTAT=ACCEPTED;RSVP=TRUE;CN="OntAG Ad
 min":https://ontag.farms.com/profile/OntAGAdmin
END:VEVENT
END:VCALENDAR
