BEGIN:VCALENDAR
PRODID:NingEventWidget-v1
VERSION:2.0
METHOD:PUBLISH
BEGIN:VTIMEZONE
TZID:Pacific/Midway
X-LIC-LOCATION:Pacific/Midway
BEGIN:STANDARD
TZOFFSETFROM:-1100
TZOFFSETTO:-1100
TZNAME:SST
DTSTART:19700101T000000
END:STANDARD
END:VTIMEZONE
BEGIN:VEVENT
UID:3646443:Event:6228
DTSTAMP:20260424T092545Z
SUMMARY:Middlesex Soil & Crop Conservation Tour Aug 17th
DESCRIPTION:Alternative Fertilizers, Managing Residue, Pesky Pests, Sp
 ray Options - Conventional vs Helicopter Demonstration, Driveshed Thea
 tre with Peter Johnson.\nTues Aug 17 @ 4:30. BBQ from 5-7 cost $5.00\n
 \nFor more information visit https://ontag.farms.com/events/middlesex-
 soil-crop
DTSTART;TZID=Pacific/Midway:20100817T163000
DTEND;TZID=Pacific/Midway:20100817T210000
CATEGORIES:field, demos
LOCATION:Mathew Aerts Farm
WEBSITE:http://tvrscia.files.wordpress.com/2010/08/2010-flyer-mscia.pd
 f
URL:http://tvrscia.files.wordpress.com/2010/08/2010-flyer-mscia.pdf
CONTACT:
ORGANIZER:Middlesex SCIA
ATTACH;FMTTYPE="image/jpeg":
ATTENDEE;ROLE=REQ-PARTICIPANT;PARTSTAT=ACCEPTED;RSVP=TRUE;CN="Cathy Di
 bble":https://ontag.farms.com/profile/CathyDibble890
END:VEVENT
END:VCALENDAR
