BEGIN:VCALENDAR
PRODID:NingEventWidget-v1
VERSION:2.0
METHOD:PUBLISH
BEGIN:VTIMEZONE
TZID:Pacific/Midway
X-LIC-LOCATION:Pacific/Midway
BEGIN:STANDARD
TZOFFSETFROM:-1100
TZOFFSETTO:-1100
TZNAME:SST
DTSTART:19700101T000000
END:STANDARD
END:VTIMEZONE
BEGIN:VEVENT
UID:3646443:Event:113386
DTSTAMP:20260421T123636Z
SUMMARY:Milestone equipment : Open house
DESCRIPTION:Milestone Equipment is a service-based dealer of quality f
 arm and rural lifestyle equipment servicing the Millbank and Wellesley
  area.\n\nFor more information visit https://ontag.farms.com/events/mi
 lestone-equipment-open-house
DTSTART;TZID=Pacific/Midway:20240228T100000
DTEND;TZID=Pacific/Midway:20240228T160000
CATEGORIES:open, house
LOCATION:4072 Line 72, Millbank
WEBSITE:http://www.milestoneequipment.com
URL:http://www.milestoneequipment.com
CONTACT:519-595-3157
ORGANIZER:milestoneequipment
ATTACH;FMTTYPE="image/jpeg":https://storage.ning.com/topology/rest/1.0
 /file/get/12391153884?profile=original
ATTENDEE;ROLE=REQ-PARTICIPANT;PARTSTAT=ACCEPTED;RSVP=TRUE;CN="OntAG Ad
 min":https://ontag.farms.com/profile/OntAGAdmin
END:VEVENT
END:VCALENDAR
