BEGIN:VCALENDAR
PRODID:NingEventWidget-v1
VERSION:2.0
METHOD:PUBLISH
BEGIN:VTIMEZONE
TZID:Pacific/Midway
X-LIC-LOCATION:Pacific/Midway
BEGIN:STANDARD
TZOFFSETFROM:-1100
TZOFFSETTO:-1100
TZNAME:SST
DTSTART:19700101T000000
END:STANDARD
END:VTIMEZONE
BEGIN:VEVENT
UID:3646443:Event:9483
DTSTAMP:20260423T152817Z
SUMMARY:Moving Genomics For Specialty Agriculture
DESCRIPTION:The University of Guelph and Erie Innovation and Commercia
 lization will host in co-operation with the Ontario Genomics Institute
  the Moving Genomics in Specialty Agriculture Forum, an elite assembly
  of government, academics and executives who are involved in specialty
  agricultural plant sciences research and innovation in Ontario.By par
 ticipating in this forum you will be able to judge the opportunity tha
 t exists for Ontario to collaborate internationally, create partnershi
 ps and enable research through grant preparation in specialty agricult
 ure and genomics.To download an AGENDA for the event, click here.\n\nF
 or more information visit https://ontag.farms.com/events/moving-genomi
 cs-for-specialty
DTSTART;TZID=Pacific/Midway:20110322T000000
DTEND;TZID=Pacific/Midway:20110322T235900
CATEGORIES:moving, genomics, for, specialty, agriculture
LOCATION:Holiday Inn Guelph
WEBSITE:
URL:
CONTACT:
ORGANIZER:
ATTACH;FMTTYPE="image/jpeg":http://storage.ning.com/topology/rest/1.0/
 file/get/1091508928?profile=original
ATTENDEE;ROLE=REQ-PARTICIPANT;PARTSTAT=ACCEPTED;RSVP=TRUE;CN="OntAG Ad
 min":https://ontag.farms.com/profile/OntAGAdmin
END:VEVENT
END:VCALENDAR
