BEGIN:VCALENDAR
PRODID:NingEventWidget-v1
VERSION:2.0
METHOD:PUBLISH
BEGIN:VTIMEZONE
TZID:Pacific/Midway
X-LIC-LOCATION:Pacific/Midway
BEGIN:STANDARD
TZOFFSETFROM:-1100
TZOFFSETTO:-1100
TZNAME:SST
DTSTART:19700101T000000
END:STANDARD
END:VTIMEZONE
BEGIN:VEVENT
UID:3646443:Event:61364
DTSTAMP:20260422T071036Z
SUMMARY:Multi Shelter Solutions Open House
DESCRIPTION:HELP US CELEBRATE! 10 YEARS IN PALMERSTON!\nWith 43 years
  experience, we’ve got your questions covered, & we’re happy to h
 elp! We look forward to seeing you!\nFor more info lease visit: http
 ://multisheltersolutions.com/featured-products/open-house-fri-may-29-2
 015-10am-4pm/ \n\n\nFor more information visit https://ontag.farms.co
 m/events/multi-shelter-solutions-open-house
DTSTART;TZID=Pacific/Midway:20150529T100000
DTEND;TZID=Pacific/Midway:20150529T160000
CATEGORIES:open, house
LOCATION:Palmerston- Drayton area
WEBSITE:http://multisheltersolutions.com/featured-products/open-house-
 fri-may-29-2015-10am-4pm/
URL:http://multisheltersolutions.com/featured-products/open-house-fri-
 may-29-2015-10am-4pm/
CONTACT:1-866-838-6729
ORGANIZER:
ATTACH;FMTTYPE="image/jpeg":http://storage.ning.com/topology/rest/1.0/
 file/get/1091540082?profile=original
ATTENDEE;ROLE=REQ-PARTICIPANT;PARTSTAT=ACCEPTED;RSVP=TRUE;CN="Diane Ho
 ulachan":https://ontag.farms.com/profile/DianeHoulachan
END:VEVENT
END:VCALENDAR
