BEGIN:VCALENDAR
PRODID:NingEventWidget-v1
VERSION:2.0
METHOD:PUBLISH
BEGIN:VTIMEZONE
TZID:Pacific/Midway
X-LIC-LOCATION:Pacific/Midway
BEGIN:STANDARD
TZOFFSETFROM:-1100
TZOFFSETTO:-1100
TZNAME:SST
DTSTART:19700101T000000
END:STANDARD
END:VTIMEZONE
BEGIN:VEVENT
UID:3646443:Event:62895
DTSTAMP:20260423T065218Z
SUMMARY:National Agriculture Leaders Debate
DESCRIPTION: NATIONAL AGRICULTURE LEADERS DEBATE:\nSeptember 30, 11-1
  EST, Ottawa, Chateau Laurier, Laurier Room\n\nRegister in advance for
  the webcast HERE. The webcast will be available live on the site.\nI
 f attending the event in person, please RSVP with Jessica Goodfellow a
 t jessica@canadian-farmers.ca\n\n\n\nFor more information visit https
 ://ontag.farms.com/events/national-agriculture-leaders-debate
DTSTART;TZID=Pacific/Midway:20150930T110000
DTEND;TZID=Pacific/Midway:20150930T130000
CATEGORIES:webcast
LOCATION:Chateau Laurier, Laurier Room
WEBSITE:http://www.cfa-fca.ca/node/2238
URL:http://www.cfa-fca.ca/node/2238
CONTACT:
ORGANIZER:Canadian Federation of Agriculture
ATTACH;FMTTYPE="image/jpeg":http://storage.ning.com/topology/rest/1.0/
 file/get/1091545654?profile=original
ATTENDEE;ROLE=REQ-PARTICIPANT;PARTSTAT=ACCEPTED;RSVP=TRUE;CN="OntAG Ad
 min":https://ontag.farms.com/profile/OntAGAdmin
END:VEVENT
END:VCALENDAR
