BEGIN:VCALENDAR
PRODID:NingEventWidget-v1
VERSION:2.0
METHOD:PUBLISH
BEGIN:VTIMEZONE
TZID:Pacific/Midway
X-LIC-LOCATION:Pacific/Midway
BEGIN:STANDARD
TZOFFSETFROM:-1100
TZOFFSETTO:-1100
TZNAME:SST
DTSTART:19700101T000000
END:STANDARD
END:VTIMEZONE
BEGIN:VEVENT
UID:3646443:Event:114495
DTSTAMP:20260421T015758Z
SUMMARY:National Poultry Show 2025
DESCRIPTION:he National Poultry Show, presented in partnership with th
 e Poultry Industry Council, returns this February 5th and 6th, 2025, t
 o the Western Fair District - Agriplex, in London, Ontario. With the s
 uccessful move of last year’s event to an earlier date in the winter
  season to avoid potential impacts from spring migration seasons in Ca
 nada, The National Poultry Show, one of North America’s premier poul
 try trade shows, is looking forward to bringing together the best in t
 he poultry industry with the latest in technology, innovations, and ed
 ucation.\n\nFor more information visit https://ontag.farms.com/events/
 national-poultry-show-2025
DTSTART;TZID=Pacific/Midway:20250205T100000
DTEND;TZID=Pacific/Midway:20250206T140000
CATEGORIES:trade, show
LOCATION:The Agriplex
WEBSITE:https://www.nationalpoultryshow.com/
URL:https://www.nationalpoultryshow.com/
CONTACT:
ORGANIZER:Poultry Industry Council
ATTACH;FMTTYPE="image/jpeg":https://storage.ning.com/topology/rest/1.0
 /file/get/13302943673?profile=original
ATTENDEE;ROLE=REQ-PARTICIPANT;PARTSTAT=ACCEPTED;RSVP=TRUE;CN="OntAG Ad
 min":https://ontag.farms.com/profile/OntAGAdmin
END:VEVENT
END:VCALENDAR
