BEGIN:VCALENDAR
PRODID:NingEventWidget-v1
VERSION:2.0
METHOD:PUBLISH
BEGIN:VTIMEZONE
TZID:Pacific/Midway
X-LIC-LOCATION:Pacific/Midway
BEGIN:STANDARD
TZOFFSETFROM:-1100
TZOFFSETTO:-1100
TZNAME:SST
DTSTART:19700101T000000
END:STANDARD
END:VTIMEZONE
BEGIN:VEVENT
UID:3646443:Event:57330
DTSTAMP:20260422T004750Z
SUMMARY:NEW Workshop for Dufferin Producers-  The Advanced Farm Manage
 ment Program (AFMP)
DESCRIPTION:Elevate management skills, business performance & sustaina
 bility \nThe Advanced Farm Management Program (AFMP) is designed for 
 farmers who want to elevate their management skills by engaging in a d
 ynamic learning environment. AFMP will help you think strategically ab
 out your business, build a strong Management Action Plan, and provide 
 you with practical knowledge and insights to improve the everyday mana
 gement of your operation.\nFarm business owners or managers with a sol
 id understanding of their farm’s financial results, with experience 
 in and responsibility for financial decision making are encouraged to 
 enroll.\nThe program consists of one-day workshops, and is available i
 n five Ontario locations including:\nHockley Valley Resort Wednesday, 
 November 26, 2014 Registration deadline is October 31, 2014.\nClick he
 re to register\n\nNOTE: You may be eligible for cost share rebate of 5
 0% of the tuition under GF2. Please visit the OSCIA website (www.ontar
 iosoilcrop.org) for more details.\n\n\nFor more information please vie
 w the video below or contact:\n\nOntario Soil & Crop Improvement Assoc
 iation\nAttn: John Laidlaw\n1 Stone Road West, Guelph, ON   N1G 4Y2\n
 T: 519-826-4218\nF: 519-826-4348\n\n\n\n \n\nFor more information vis
 it https://ontag.farms.com/events/new-workshop-for-dufferin-producers-
 the-advanced-farm-management-
DTSTART;TZID=Pacific/Midway:20141126T000000
DTEND;TZID=Pacific/Midway:20141126T235900
CATEGORIES:the, advanced, farm, management, program, "(afmp)"
LOCATION:Hockley Valley Resort
WEBSITE:https://oscia.wildapricot.org/event-921011
URL:https://oscia.wildapricot.org/event-921011
CONTACT:519-826-4218
ORGANIZER:OSCA & AMI
ATTACH;FMTTYPE="image/jpeg":http://storage.ning.com/topology/rest/1.0/
 file/get/1091527370?profile=original
ATTENDEE;ROLE=REQ-PARTICIPANT;PARTSTAT=ACCEPTED;RSVP=TRUE;CN="OntAG Ad
 min":https://ontag.farms.com/profile/OntAGAdmin
END:VEVENT
END:VCALENDAR
