BEGIN:VCALENDAR
PRODID:NingEventWidget-v1
VERSION:2.0
METHOD:PUBLISH
BEGIN:VTIMEZONE
TZID:Pacific/Midway
X-LIC-LOCATION:Pacific/Midway
BEGIN:STANDARD
TZOFFSETFROM:-1100
TZOFFSETTO:-1100
TZNAME:SST
DTSTART:19700101T000000
END:STANDARD
END:VTIMEZONE
BEGIN:VEVENT
UID:3646443:Event:19362
DTSTAMP:20260421T191728Z
SUMMARY:NFU on Canada-EU Trade Agreement (CETA) and Threat to Family F
 arms
DESCRIPTION:National Farmers Union (NFU) President Terry Boehm will be
  conducting a speaking tour of Southern Ontario in late June, to draw 
 attention to the dangers posed by the Comprehensive Economic Trade Agr
 eement (CETA) currently being negotiated between Canada and the Europe
 an Union.\n\nThis tour is organized and sponsored by the following NFU
  Ontario Locals:\nPerth/Oxford, Hastings/Prince Edward/Northumberland,
  Bruce, Huron and Middlesex.\n\nSpeaking Tour Information:\nJune 28 â€
 “ 7:00 p.m. Victoria Jubliee Hall, 111 Jackson St. S., Walkerton\n\nJu
 ne 29 â€“ St. Marys United Church Hall, 85 Church St. S., St. Marys\n\
 n3:00 â€“ 5:00 p.m - Discussion of the implications CETA will have on 
 local food systems and local procurement policies for federal, provinc
 ial and municipal governments.\n7:30 p.m - A presentation and discussi
 on on 'The Threat CETA Poses to Family Farms and Our Right to Save See
 ds'\n\nJune 30 â€“7:00 p.m. Thurlow Community Centre, 516 Harmony Rd ,
  Corbyville (just\nnorth of Belleville, off Hwy. 37). Joint event with
  the Council of Canadians.\n\nEveryone welcome to all of the above eve
 nts.\nFor more information, please contact:\n\nAnn Slater NFU Board Me
 mber (519) 349-2448 aslater@quadro.net\nJoan Brady NFU Womenâ€™s Presi
 dent (529) 237-3163\nOliver Haan NFU Local President (613) 396-6622\n\
 nFor more information visit https://ontag.farms.com/events/nfu-on-cana
 daeu-trade
DTSTART;TZID=Pacific/Midway:20110628T000000
DTEND;TZID=Pacific/Midway:20110630T235900
CATEGORIES:speaker, tour
LOCATION:Walkerton, St. Mary's and Belleville
WEBSITE:http://www.nfu.ca/press_releases/2011/06-17.pdf
URL:http://www.nfu.ca/press_releases/2011/06-17.pdf
CONTACT:
ORGANIZER:National Farmers Union
ATTACH;FMTTYPE="image/jpeg":
ATTENDEE;ROLE=REQ-PARTICIPANT;PARTSTAT=ACCEPTED;RSVP=TRUE;CN="OntAG Ad
 min":https://ontag.farms.com/profile/OntAGAdmin
END:VEVENT
END:VCALENDAR
