BEGIN:VCALENDAR
PRODID:NingEventWidget-v1
VERSION:2.0
METHOD:PUBLISH
BEGIN:VTIMEZONE
TZID:Pacific/Midway
X-LIC-LOCATION:Pacific/Midway
BEGIN:STANDARD
TZOFFSETFROM:-1100
TZOFFSETTO:-1100
TZNAME:SST
DTSTART:19700101T000000
END:STANDARD
END:VTIMEZONE
BEGIN:VEVENT
UID:3646443:Event:32907
DTSTAMP:20260421T163035Z
SUMMARY:Niagara South SCIA Summer Car Tour
DESCRIPTION:Meet at the old Niagara Livestock Sales Barn, Misener Road
 , Wainfleet, 3 pm.\n\nTopics include:\n* Precision planting plots\n* F
 ungicide on soybeans and corn\n* Wheat plot data\n* Green bin compost 
 plots\n* Nitrogen on soybeans\n\nMore details to be announced. Watch w
 ww.oscia.cloverpad.org for updates.\n\nFor more information visit http
 s://ontag.farms.com/events/niagara-south-scia-summer-car-tour
DTSTART;TZID=Pacific/Midway:20120726T150000
DTEND;TZID=Pacific/Midway:20120726T190000
CATEGORIES:car, tour, educational
LOCATION:old Niagara Livestock Sales Barn
WEBSITE:http://www.oscia.cloverpad.org
URL:http://www.oscia.cloverpad.org
CONTACT:
ORGANIZER:Niagara South SCIA
ATTACH;FMTTYPE="image/jpeg":
ATTENDEE;ROLE=REQ-PARTICIPANT;PARTSTAT=ACCEPTED;RSVP=TRUE;CN="Golden H
 orseshoe SCIA":https://ontag.farms.com/profile/GoldenHorseshoeSCIA
END:VEVENT
END:VCALENDAR
