BEGIN:VCALENDAR
PRODID:NingEventWidget-v1
VERSION:2.0
METHOD:PUBLISH
BEGIN:VTIMEZONE
TZID:Pacific/Midway
X-LIC-LOCATION:Pacific/Midway
BEGIN:STANDARD
TZOFFSETFROM:-1100
TZOFFSETTO:-1100
TZNAME:SST
DTSTART:19700101T000000
END:STANDARD
END:VTIMEZONE
BEGIN:VEVENT
UID:3646443:Event:36517
DTSTAMP:20260421T092103Z
SUMMARY:Norfolk SCIA AGM
DESCRIPTION:SPECIAL GUEST SPEAKER\nSteve Peters, Executive Director of
  the Alliance of Ontario Food Processors, formerly an Ontario Agricult
 ure minister and Speaker of the House, Queen's Park.\n\n\nAGENDA\nBusi
 ness meeting\nGuest speaker on sub-terrain irrigation\nGuest speaker o
 n new soil testing methods\nSocial hour\nTrade show\nDoor prize draw f
 or a BlackBerry PlayBook\n\nCOST\nTickets: $30 per person available fr
 om any of the Norfolk SCIA Directors.\n\nFOR INFORMATION Frank Van De 
 Slyke, Secretary Phone: 519-842-3329 Email: vandeslyke@kwic.com \n\nF
 or more information visit https://ontag.farms.com/events/norfolk-scia-
 agm
DTSTART;TZID=Pacific/Midway:20130206T150000
DTEND;TZID=Pacific/Midway:20130206T210000
CATEGORIES:agm
LOCATION:Delhi District German Home
WEBSITE:http://www.ghscia.com/coming-events
URL:http://www.ghscia.com/coming-events
CONTACT:
ORGANIZER:Norfolk SCIA
ATTACH;FMTTYPE="image/jpeg":
ATTENDEE;ROLE=REQ-PARTICIPANT;PARTSTAT=ACCEPTED;RSVP=TRUE;CN="Golden H
 orseshoe SCIA":https://ontag.farms.com/profile/GoldenHorseshoeSCIA
END:VEVENT
END:VCALENDAR
