BEGIN:VCALENDAR
PRODID:NingEventWidget-v1
VERSION:2.0
METHOD:PUBLISH
BEGIN:VTIMEZONE
TZID:Pacific/Midway
X-LIC-LOCATION:Pacific/Midway
BEGIN:STANDARD
TZOFFSETFROM:-1100
TZOFFSETTO:-1100
TZNAME:SST
DTSTART:19700101T000000
END:STANDARD
END:VTIMEZONE
BEGIN:VEVENT
UID:3646443:Event:51591
DTSTAMP:20260423T115904Z
SUMMARY:Novel Swine Feeding Programs Workshop – February 18 – Stra
 tford, Ontario
DESCRIPTION:Don’t miss this opportunity to discover the latest nutri
 tion research outcomes and ways we can enhance competitiveness and por
 k differentiation in Canada.\nDate: February 18th, 2014\nTime: 10:00
  a.m.—3:00 p.m.\nLocation: Arden Park Hotel, Stratford, Ontario\nTh
 is workshop will also be be available through Webinar\nProgramme \nNo
 vel Feeding Strategies for the growing pig: Simple v Complex. Dr. Kees
  de lange, University of Guelph\nEstimating real-time individual amino
  acid requirements in growing-finishing pigs : to wards a new definiti
 on of nutrient requirements Dr. Candido Pomar, Agri Food Canada\nInclu
 sion of Dietary Co-products: Impact on Performance & Bottom Line Dr. R
 uurd Zijlstra, University of Alberta\n \nIn addition to hearing the l
 atest on how nutritional advances can positively benefit for bottom li
 ne.\nThe workshop will also include a tutorial on Pork Master.\nFor mo
 re information, or to register for this event, please contact:\nHelen 
 Thoday E-mail: Helen.Thoday@usask.ca Phone: (306) 667-7445\n\nFor mor
 e information visit https://ontag.farms.com/events/novel-swine-feeding
 -programs-workshop-february-18-stratford-ontar
DTSTART;TZID=Pacific/Midway:20140218T100000
DTEND;TZID=Pacific/Midway:20140218T150000
CATEGORIES:workshop
LOCATION:Arden Park Hotel
WEBSITE:http://www.prairieswine.com/novel-swine-feeding-programs-works
 hop/
URL:http://www.prairieswine.com/novel-swine-feeding-programs-workshop/
CONTACT:
ORGANIZER:Prairie Swine Centre
ATTACH;FMTTYPE="image/jpeg":http://storage.ning.com/topology/rest/1.0/
 file/get/1091525995?profile=original
ATTENDEE;ROLE=REQ-PARTICIPANT;PARTSTAT=ACCEPTED;RSVP=TRUE;CN="OntAG Ad
 min":https://ontag.farms.com/profile/OntAGAdmin
END:VEVENT
END:VCALENDAR
