BEGIN:VCALENDAR
PRODID:NingEventWidget-v1
VERSION:2.0
METHOD:PUBLISH
BEGIN:VTIMEZONE
TZID:Pacific/Midway
X-LIC-LOCATION:Pacific/Midway
BEGIN:STANDARD
TZOFFSETFROM:-1100
TZOFFSETTO:-1100
TZNAME:SST
DTSTART:19700101T000000
END:STANDARD
END:VTIMEZONE
BEGIN:VEVENT
UID:3646443:Event:78182
DTSTAMP:20260421T012252Z
SUMMARY:Nutrient Management Workshop
DESCRIPTION:Wednesday January 22, 1-4 pm; Brooke-Alvinston-Inwood Comm
 unity Centre, 3310 Walnut St, Alvinston\r\nAn afternoon workshop on ma
 nure and fertilizer management co-hosted with Lambton Cattlemen’s As
 sociation\r\nDr. Peter Kotzeff (DVM, retired) will discuss his intensi
 ve grazing management, with his practices focused on improving soil he
 alth, water quality and riparian ecosystems.\r\nKevin McKague (OMAFRA 
 Water Quality Engineer) will share a new manure management tool design
 ed by OMAFRA\r\nGraham Mclean (Agris Co-Op) will discuss “Timing Mat
 ters” - an initiative between OMAFRA and agricultural sector organiz
 ations to raise awareness on the risks of winter spreading. A peer-to-
 peer response team within the Lake Erie watershed with farmers to esta
 blish alternatives to winter spreading, address the risks of winter sp
 reading to farmers, and understand why winter spreading is a continued
  practice.\r\nThe event is free, but we request you RSVP so we have en
 ough coffee & refreshments. Please RSVP to Anastassia Lagounova @ alag
 ounova@scrca.on.ca or 519-245-3710.\n\nFor more information visit http
 s://ontag.farms.com/events/nutrient-management-workshop
DTSTART;TZID=Pacific/Midway:20200122T130000
DTEND;TZID=Pacific/Midway:20200122T160000
CATEGORIES:workshop
LOCATION:Brooke-Alvinston-Inwood Community Centre
WEBSITE:
URL:
CONTACT:519-245-3710
ORGANIZER:Lambton Cattlemen’s Association
ATTACH;FMTTYPE="image/jpeg":
ATTENDEE;ROLE=REQ-PARTICIPANT;PARTSTAT=ACCEPTED;RSVP=TRUE;CN="OntAG Ad
 min":https://ontag.farms.com/profile/OntAGAdmin
END:VEVENT
END:VCALENDAR
