BEGIN:VCALENDAR
PRODID:NingEventWidget-v1
VERSION:2.0
METHOD:PUBLISH
BEGIN:VTIMEZONE
TZID:Pacific/Midway
X-LIC-LOCATION:Pacific/Midway
BEGIN:STANDARD
TZOFFSETFROM:-1100
TZOFFSETTO:-1100
TZNAME:SST
DTSTART:19700101T000000
END:STANDARD
END:VTIMEZONE
BEGIN:VEVENT
UID:3646443:Event:77666
DTSTAMP:20260420T224356Z
SUMMARY:OAAS Convention 2020
DESCRIPTION:The 2020 Ontario Association of Agricultural Societies (OA
 AS) annual convention is taking place on February 13-15, at the Sherat
 on Parkway Toronto North Hotel & Suites, Richmond Hill, ON.\r\nRegistr
 ation is now open and will only be accepted online. The early bird rat
 es are: 3-day rate is $125 & the 1-day rate is $100, which will be acc
 epted until Friday January 24, 11:59pm. The rate after the early bird 
 date will increase to $150, for the full 3-days & $125 for the one-day
  rate. Registration completed after February 12 will be: $175 for the 
 3-day rate and $150 for a one day. Each member society is entitled to 
 THREE (3) voting delegates. Please select the proper option on the dro
 p-down menu during online registration for each delegate. Any Agricult
 ural Society registering an Ambassador MUST include a chaperone on the
  registration form.\r\nOAAS Past Presidents are to use the online form
  and select OAAS Past President from the drop down menu.\r\nCancellati
 ons: Until February 1st, 2020 - Less 25% administration fee. Registrat
 ions can only be a transfer of delegates after February 1, 2020. Trans
 fer of registration: Permissible only within the same Society.\n\nFor 
 more information visit https://ontag.farms.com/events/oaas-convention-
 2020
DTSTART;TZID=Pacific/Midway:20200213T090000
DTEND;TZID=Pacific/Midway:20200215T180000
CATEGORIES:trade, show
LOCATION:Sheraton Parkway Toronto North Hotel &amp; Suites,
WEBSITE:https://ontarioagsocieties.com/convention/
URL:https://ontarioagsocieties.com/convention/
CONTACT:519-287-3553
ORGANIZER:Ontario Association of Agricultural Societies
ATTACH;FMTTYPE="image/jpeg":
ATTENDEE;ROLE=REQ-PARTICIPANT;PARTSTAT=ACCEPTED;RSVP=TRUE;CN="OntAG Ad
 min":https://ontag.farms.com/profile/OntAGAdmin
END:VEVENT
END:VCALENDAR
