BEGIN:VCALENDAR
PRODID:NingEventWidget-v1
VERSION:2.0
METHOD:PUBLISH
BEGIN:VTIMEZONE
TZID:Pacific/Midway
X-LIC-LOCATION:Pacific/Midway
BEGIN:STANDARD
TZOFFSETFROM:-1100
TZOFFSETTO:-1100
TZNAME:SST
DTSTART:19700101T000000
END:STANDARD
END:VTIMEZONE
BEGIN:VEVENT
UID:3646443:Event:94904
DTSTAMP:20260421T133653Z
SUMMARY:OFA 2020 Virtual Annual General Meeting
DESCRIPTION:As a result of COVID-19 and to ensure all OFA directors, s
 taff, members and attendees remain safe and healthy, the Ontario Feder
 ation of Agriculture (OFA) will host the 2020 Annual General Meeting (
 AGM) in a virtual format on Monday, November 23, 2020 commencing at 9:
 00 a.m.\r\nThis year’s theme is Navigating our Road to Recovery.\r\n
 For more details, visit the AGM webpage at ofa.on.ca/agm.\n\nFor more 
 information visit https://ontag.farms.com/events/ofa-2020-virtual-annu
 al-general-meeting
DTSTART;TZID=Pacific/Midway:20201123T083000
DTEND;TZID=Pacific/Midway:20201123T123000
CATEGORIES:annual, meeting
LOCATION:Online
WEBSITE:http://ofa.on.ca/agm
URL:http://ofa.on.ca/agm
CONTACT:
ORGANIZER:Ontario Federation of Agriculture (OFA)
ATTACH;FMTTYPE="image/jpeg":
ATTENDEE;ROLE=REQ-PARTICIPANT;PARTSTAT=ACCEPTED;RSVP=TRUE;CN="OntAG Ad
 min":https://ontag.farms.com/profile/OntAGAdmin
END:VEVENT
END:VCALENDAR
