BEGIN:VCALENDAR
PRODID:NingEventWidget-v1
VERSION:2.0
METHOD:PUBLISH
BEGIN:VTIMEZONE
TZID:Pacific/Midway
X-LIC-LOCATION:Pacific/Midway
BEGIN:STANDARD
TZOFFSETFROM:-1100
TZOFFSETTO:-1100
TZNAME:SST
DTSTART:19700101T000000
END:STANDARD
END:VTIMEZONE
BEGIN:VEVENT
UID:3646443:Event:58632
DTSTAMP:20260420T123451Z
SUMMARY:OFA Annual Convention
DESCRIPTION:Information\nDate: Monday, Nov. 24, 2014 – Tuesday, Nov
 . 25, 2014\nTime: Monday 8:00 a.m. – 5:00 p.m. and Tuesday 8:30 a.m
 . –  Noon\nLocation: Sheraton on the Falls Hotel, 5875 Falls Aven
 ue, Niagara Falls, ON\nConvention Theme: Growing Ontario\nRegistratio
 n: Registration opens on Sunday, Nov. 23 at 6:00 p.m. and continues M
 onday, Nov. 24 at 7:30 a.m.\nCost: Delegate fee: $375        
   Guest fee: $125           Harvest Celebration Dinner tick
 et: $61.95\n*All totals do not include applicable taxes\nFor more info
 rmation: Please contact Kelly Alves at kelly.alves@ofa.on.ca or 51
 9-821-8883 ext. 204\nAgenda\nClick here to view a working draft of th
 e 2014 Annual General Meeting agenda.\nWebcasting\nThe Annual General 
 Meeting is broadcasted live on our website. OFA members and interested
  parties who cannot attend but would like to watch can visit the OFA w
 ebsite any time during the meeting and watch for free.\nHighlights\nKe
 ynote Speaker:\nAron Gampel, Vice-President and Deputy Chief Economist
 , Scotiabank Economics\nResolutions:\nOFA 2014 AGM Resolutions\nWorksh
 ops:\nMonday, November 24 at 10:45 a.m. and 11:30 a.m. delegates will 
 have the opportunity to participate in two of six workshops. Each work
 shop listed below will run twice, back-to-back for 40 minutes each. Pl
 ease pre-register for the workshop of your choice by emailing or calli
 ng Kelly Alves with your two choices at kelly.alves@ofa.on.ca or cal
 ling 1-800-668-3276 x204.\n1.         Cost of Community Servic
 e Report\n2.         Making the Farm Cash Flow\n3.      
    2015 Energy Outlook & Opportunities\n4.         Everythin
 g you wanted to know about WSIB but were too afraid to ask\n5.    
      Overview of Advance Payments Program (APP) & Canadian Agricul
 tural Loans Act (CALA)\n6          Ontario Young Farmers’ F
 orum Speed Mentoring\nClick here for a detailed description of all six
  workshops\n\nFor more information visit https://ontag.farms.com/event
 s/ofa-annual-convention
DTSTART;TZID=Pacific/Midway:20141124T000000
DTEND;TZID=Pacific/Midway:20141125T235900
CATEGORIES:ofa, annual, convention
LOCATION:Sheraton on the Falls Hotel
WEBSITE:http://www.ofa.on.ca/get-involved/annual-convention/default.as
 px
URL:http://www.ofa.on.ca/get-involved/annual-convention/default.aspx
CONTACT:
ORGANIZER:Ontario Federation of Agriculture
ATTACH;FMTTYPE="image/jpeg":http://storage.ning.com/topology/rest/1.0/
 file/get/1091534816?profile=original
ATTENDEE;ROLE=REQ-PARTICIPANT;PARTSTAT=ACCEPTED;RSVP=TRUE;CN="OntAG Ad
 min":https://ontag.farms.com/profile/OntAGAdmin
END:VEVENT
END:VCALENDAR
