BEGIN:VCALENDAR
PRODID:NingEventWidget-v1
VERSION:2.0
METHOD:PUBLISH
BEGIN:VTIMEZONE
TZID:Pacific/Midway
X-LIC-LOCATION:Pacific/Midway
BEGIN:STANDARD
TZOFFSETFROM:-1100
TZOFFSETTO:-1100
TZNAME:SST
DTSTART:19700101T000000
END:STANDARD
END:VTIMEZONE
BEGIN:VEVENT
UID:3646443:Event:77284
DTSTAMP:20260422T222054Z
SUMMARY:OFA Annual General Meeting
DESCRIPTION:The theme of OFA’s 2019 Annual General Meeting is Farmi
 ng 2020: Adapt & Grow. The event brings together members, industry rep
 resentatives and key stakeholders to discuss key issues impacting Onta
 rio’s agriculture and food sector, rural communities, participate in
  progressive workshops, hear from our keynote speaker and government l
 eaders and vote for OFA leadership. OFA’s annual meeting offers an e
 xciting opportunity to share your thoughts, catch up with fellow Ontar
 io farmers and take away new ideas for your farms.Meeting time\r\nMond
 ay, November 18, 2019\r\n8:15 AM – 5:00 PM\r\n\r\n&\r\nTuesday, Nove
 mber 19, 2019\r\n8:15 AM – 12:00 PMQuestions or concerns? Please co
 ntact Kelly Alves at kelly.alves@ofa.on.ca \r\n\n\nFor more informat
 ion visit https://ontag.farms.com/events/ofa-annual-general-meeting
DTSTART;TZID=Pacific/Midway:20191118T081500
DTEND;TZID=Pacific/Midway:20191119T120000
CATEGORIES:annual, general, meeting
LOCATION:Hamilton Convention Centre
WEBSITE:https://ofa.on.ca/community/annual-general-meeting/
URL:https://ofa.on.ca/community/annual-general-meeting/
CONTACT:519-821-8883 ext. 204.
ORGANIZER:Ontario Federation of Agriculture
ATTACH;FMTTYPE="image/jpeg":
ATTENDEE;ROLE=REQ-PARTICIPANT;PARTSTAT=ACCEPTED;RSVP=TRUE;CN="OntAG Ad
 min":https://ontag.farms.com/profile/OntAGAdmin
END:VEVENT
END:VCALENDAR
