BEGIN:VCALENDAR
PRODID:NingEventWidget-v1
VERSION:2.0
METHOD:PUBLISH
BEGIN:VTIMEZONE
TZID:Pacific/Midway
X-LIC-LOCATION:Pacific/Midway
BEGIN:STANDARD
TZOFFSETFROM:-1100
TZOFFSETTO:-1100
TZNAME:SST
DTSTART:19700101T000000
END:STANDARD
END:VTIMEZONE
BEGIN:VEVENT
UID:3646443:Event:63866
DTSTAMP:20260421T025444Z
SUMMARY:OFA Convention 2015 - How to Talk Farming & Influence People
DESCRIPTION:Information\nTime:Â Monday 8:00 a.m. â€“ 5:00 p.m. and Tue
 sday 8:30 a.m. â€“Â  Noon\nLocation:Â International Plaza Hotel, 655 D
 ixon Road, Toronto, Ontario\nConvention Theme:Â How to Talk Farming & 
 Influence People\nRegistration:Â Registration opens on Sunday, Nov. 22
  at 6:00 p.m. and continues Monday, Nov. 23 at 7:30 a.m.\nCost:Â Â Â Â
   Delegate fee: $375 Â Â Â Â Â Â Â Â Â  Â Â Â Â  Guest fee: $150 (incl
 udes breakfast and lunch) Â Â Â Â Â Â Â Â Â  Â Â Â Â  Harvest Celebrat
 ion Dinner ticket: $61.95\n*All totals do not include HST\nFor more in
 formation:Â PleaseÂ contact Kelly Alves atÂ kelly.alves@ofa.on.caÂ or 
 519-821-8883 ext. 204\nFor media inquiries:Â Please contact Jeanine Mo
 yer atÂ jeanine.moyer@adfarmonline.comÂ or 519-767-4641\nHighlights\nO
 pening Speaker:Â Allan Oâ€™Dette, President & CEO, Ontario Chamber of 
 Commerce\nKeynote Speaker:Â Jeff Fitzpatrick-Stilwell, Senior Manager 
 of Sustainability, McDonaldâ€™s Restaurants of Canada Limited\nGuest S
 peakers:Â Â Hon. Kathleen Wynne, Premier of Ontario\nÂ  Â  Â  Â  Â  Â 
  Â  Â  Â  Â  Â  Â  Â  Â  Hon. Jeff Leal, Minister of Agriculture, Food
  & Rural Affairs\n\nFor more information visit https://ontag.farms.com
 /events/ofa-convention-2015-how-to-talk-farming-influence-people
DTSTART;TZID=Pacific/Midway:20151123T000000
DTEND;TZID=Pacific/Midway:20151124T235900
CATEGORIES:ofa, annual, convention
LOCATION:International Plaza Hotel
WEBSITE:http://www.ofa.on.ca/get-involved/annual-convention/default.as
 px
URL:http://www.ofa.on.ca/get-involved/annual-convention/default.aspx
CONTACT:
ORGANIZER:Ontario Federation of Agriculture
ATTACH;FMTTYPE="image/jpeg":http://storage.ning.com/topology/rest/1.0/
 file/get/1091544732?profile=original
ATTENDEE;ROLE=REQ-PARTICIPANT;PARTSTAT=ACCEPTED;RSVP=TRUE;CN="OntAG Ad
 min":https://ontag.farms.com/profile/OntAGAdmin
END:VEVENT
END:VCALENDAR
