BEGIN:VCALENDAR
PRODID:NingEventWidget-v1
VERSION:2.0
METHOD:PUBLISH
BEGIN:VTIMEZONE
TZID:Pacific/Midway
X-LIC-LOCATION:Pacific/Midway
BEGIN:STANDARD
TZOFFSETFROM:-1100
TZOFFSETTO:-1100
TZNAME:SST
DTSTART:19700101T000000
END:STANDARD
END:VTIMEZONE
BEGIN:VEVENT
UID:3646443:Event:50674
DTSTAMP:20260421T095920Z
SUMMARY:OHA 5th Annual Hazelnut Symposium
DESCRIPTION:The 2014 Symposium will feature practical application for 
 growers and address market development\nThe expansion of the commercia
 l hazelnut business in the province, which eventually will result in a
  new, multi-million dollar sector for agribusiness, is the key priorit
 y for the OHA and this meeting will address concerns and opportunities
  for growers.\n\nFor more information visit https://ontag.farms.com/ev
 ents/oha-5th-annual-hazelnut-symposium
DTSTART;TZID=Pacific/Midway:20140325T000000
DTEND;TZID=Pacific/Midway:20140325T235900
CATEGORIES:meeting
LOCATION:Brantford
WEBSITE:
URL:
CONTACT:
ORGANIZER;CN="OntAG Admin":https://ontag.farms.com/profile/OntAGAdmin
ATTACH;FMTTYPE="image/jpeg":http://storage.ning.com/topology/rest/1.0/
 file/get/1091524802?profile=original
ATTENDEE;ROLE=REQ-PARTICIPANT;PARTSTAT=ACCEPTED;RSVP=TRUE;CN="OntAG Ad
 min":https://ontag.farms.com/profile/OntAGAdmin
ATTENDEE;ROLE=REQ-PARTICIPANT;PARTSTAT=TENTATIVE;RSVP=TRUE;CN="Dan Ban
 ko":https://ontag.farms.com/profile/DanBanko
ATTENDEE;ROLE=REQ-PARTICIPANT;PARTSTAT=TENTATIVE;RSVP=TRUE;CN="Kevin V
 arley":https://ontag.farms.com/profile/KevinVarley
END:VEVENT
END:VCALENDAR
