BEGIN:VCALENDAR
PRODID:NingEventWidget-v1
VERSION:2.0
METHOD:PUBLISH
BEGIN:VTIMEZONE
TZID:Pacific/Midway
X-LIC-LOCATION:Pacific/Midway
BEGIN:STANDARD
TZOFFSETFROM:-1100
TZOFFSETTO:-1100
TZNAME:SST
DTSTART:19700101T000000
END:STANDARD
END:VTIMEZONE
BEGIN:VEVENT
UID:3646443:Event:7469
DTSTAMP:20260420T194458Z
SUMMARY:OMAFRA Poultry Producer Updates
DESCRIPTION:Once again OMAFRA in conjunction with the Poultry Industry
  Council are running producer updates for the poultry industry! Please
  join us for an exciting line up of speakers and lunch and a great net
 working opportunity.\n\nEach update will include 2 keynote speakers, a
  health update, industry speakers as well as an OMAFRA update.\n\nBell
 eville - Feb 1\nIngersoll - Feb 2\nSt.Catharines - Feb 3\n\nFor more i
 nformation visit https://ontag.farms.com/events/omafra-poultry-produce
 r
DTSTART;TZID=Pacific/Midway:20110201T000000
DTEND;TZID=Pacific/Midway:20110203T235900
CATEGORIES:seminars
LOCATION:Belleville / Ingersoll / St. Catharines
WEBSITE:http://www.poultryindustrycouncil.ca/events/producerupdates.ph
 p
URL:http://www.poultryindustrycouncil.ca/events/producerupdates.php
CONTACT:519-837-0284
ORGANIZER:Poultry Industry Council / OMAFRA
ATTACH;FMTTYPE="image/jpeg":http://storage.ning.com/topology/rest/1.0/
 file/get/1091506039?profile=original
ATTENDEE;ROLE=REQ-PARTICIPANT;PARTSTAT=ACCEPTED;RSVP=TRUE;CN="Richard 
 Hamilton":https://ontag.farms.com/profile/RichardHamilton
END:VEVENT
END:VCALENDAR
