BEGIN:VCALENDAR
PRODID:NingEventWidget-v1
VERSION:2.0
METHOD:PUBLISH
BEGIN:VTIMEZONE
TZID:Pacific/Midway
X-LIC-LOCATION:Pacific/Midway
BEGIN:STANDARD
TZOFFSETFROM:-1100
TZOFFSETTO:-1100
TZNAME:SST
DTSTART:19700101T000000
END:STANDARD
END:VTIMEZONE
BEGIN:VEVENT
UID:3646443:Event:60162
DTSTAMP:20260423T053016Z
SUMMARY:OMAFRA Precision Dairy Technology Workshop
DESCRIPTION:Plan to attend a 1-day workshop featuring the latest preci
 sion dairy technologies.  This workshop is intended for dairy farmers
  considering acquiring a new technology or to get more out of an exist
 ing technology.  The workshop will feature producer’s experiences a
 nd information on emerging and soon to be released technologies.  A r
 ange of technologies will be presented by dairy farmers and experts ad
 dressing in-line milk testing, on-farm use of activity monitoring data
 , real-time NIR analysis of feeds, assessing costs and benefits of a n
 ew technology, optimizing robotic calf feeders, automated body conditi
 on scoring, latest in environmental controls, role of your veterinaria
 n at your advisory table, a producer’s perspective on Herd Navigator
 , and the Cow Manager technology.  \nThis Workshop has been designed 
 to promote questions and discussion so attendance is limited and pre-r
 egistration is necessary at a cost of $20, lunch included.\n\nFor more
  information visit https://ontag.farms.com/events/omafra-precision-dai
 ry-technology-workshop
DTSTART;TZID=Pacific/Midway:20150325T093000
DTEND;TZID=Pacific/Midway:20150325T150000
CATEGORIES:workshop
LOCATION:Grand River Raceway
WEBSITE:http://www.http://grandriverraceway.com/directions
URL:http://www.http://grandriverraceway.com/directions
CONTACT:1-877-424-1300
ORGANIZER:Ministry of Agriculture, Food and Rural Affairs Dairy Team
ATTACH;FMTTYPE="image/jpeg":
ATTENDEE;ROLE=REQ-PARTICIPANT;PARTSTAT=ACCEPTED;RSVP=TRUE;CN="Betty Su
 mmerhayes":https://ontag.farms.com/profile/BettySummerhayes
END:VEVENT
END:VCALENDAR
