BEGIN:VCALENDAR
PRODID:NingEventWidget-v1
VERSION:2.0
METHOD:PUBLISH
BEGIN:VTIMEZONE
TZID:Pacific/Midway
X-LIC-LOCATION:Pacific/Midway
BEGIN:STANDARD
TZOFFSETFROM:-1100
TZOFFSETTO:-1100
TZNAME:SST
DTSTART:19700101T000000
END:STANDARD
END:VTIMEZONE
BEGIN:VEVENT
UID:3646443:Event:28464
DTSTAMP:20260420T131033Z
SUMMARY:Online OMAFRA Workshop: Pre and Post Harvest Water Use
DESCRIPTION:Pre and Post Harvest Water Use – Tuesday, February 14, 
 10:30 am – 12:00 pm (noon)\nDid you know that water can carry germs 
 from dirty produce to clean produce? A pre and post harvest water use 
 program is an important step in reducing risks. During this workshop, 
 evaluate your risks and discuss how to construct and monitor a water s
 anitizing program.\n \nRegister today!\nCall 1-877-424-1300 or regi
 ster online at http://omafra.webex.com \nRegistration closes the day
  prior to each workshop. A confirmation email will be sent following r
 egistration with the online presentation and teleconference details.\n
  \n\nFor more information visit https://ontag.farms.com/events/online
 -omafra-workshop-pre-and-post-harvest-water-use
DTSTART;TZID=Pacific/Midway:20120214T103000
DTEND;TZID=Pacific/Midway:20120214T120000
CATEGORIES:online, workshop
LOCATION:Online
WEBSITE:http://omafra.webex.com
URL:http://omafra.webex.com
CONTACT:
ORGANIZER:Ontario Ministry of Agriculture Food and Rural Affairs OMAFR
 A
ATTACH;FMTTYPE="image/jpeg":http://storage.ning.com/topology/rest/1.0/
 file/get/1091511926?profile=original
ATTENDEE;ROLE=REQ-PARTICIPANT;PARTSTAT=ACCEPTED;RSVP=TRUE;CN="OntAG Ad
 min":https://ontag.farms.com/profile/OntAGAdmin
END:VEVENT
END:VCALENDAR
