BEGIN:VCALENDAR
PRODID:NingEventWidget-v1
VERSION:2.0
METHOD:PUBLISH
BEGIN:VTIMEZONE
TZID:Pacific/Midway
X-LIC-LOCATION:Pacific/Midway
BEGIN:STANDARD
TZOFFSETFROM:-1100
TZOFFSETTO:-1100
TZNAME:SST
DTSTART:19700101T000000
END:STANDARD
END:VTIMEZONE
BEGIN:VEVENT
UID:3646443:Event:101728
DTSTAMP:20260420T034451Z
SUMMARY:Online Risk Management Workshops
DESCRIPTION:Farm life can be unpredictable, even on the best days - we
 ather, pests, market conditions, relationships, and more recently, COV
 ID-19 can affect not only day-to-day farm management but the future of
  the operation altogether. But, with risk, also comes opportunity for 
 those who are positioned to take calculated risks. This is why it's im
 portant to plan for risk.\r\nFarm Management Canada invites farmers to
  attend the Roots to Success Risk Management virtual training session 
 to increase their ability to assess and address risks using a comprehe
 nsive approach to managing risk on the farm.\r\nThe training session w
 ill allow you to:\r\n\r\nGain knowledge, tools and resources to make b
 etter business decisions\r\nShare best practices and lessons learned w
 ith other producers\r\nBegin to create a comprehensive risk management
  plan tailored to your farm\r\n\r\nFIRST HALF - November 24, 2020\r\n1
 :00 to 4:00 p.m. (Eastern Time)\r\n=========\r\nSECOND HALF - November
  27, 2020\r\n1:00 to 4:00 p.m. (Eastern Time)\r\n\r\nTo register for t
 his free training session, click here!\r\n\r\nThanks to Agriculture an
 d Agri-Food Canada and the Agri-Risk Initiatives Program, this session
  is free to producers.\r\nBy participating in this training session, y
 ou will gain free access to AgriShield®, an online risk management pl
 atform for a period of one year.\r\nNote:\r\n\r\nThis workshop is desi
 gned for Canadian producers only. Other workshops that are better suit
 ed to other professions will be advertised in the future.\r\nSpace is 
 limited and will be given on a first come, first serve basis.\r\nParti
 cipants are expected to have access to a computer and a reliable inter
 net connection to attend the training.\r\nA pre-training survey will b
 e shared in order to tailor the content of workshop to the needs of th
 e participants.\r\n\n\nFor more information visit https://ontag.farms.
 com/events/online-risk-management-workshops
DTSTART;TZID=Pacific/Midway:20201127T130000
DTEND;TZID=Pacific/Midway:20201127T160000
CATEGORIES:virtual, training, session
LOCATION:Online
WEBSITE:https://www.eventbrite.ca/e/roots-to-success-agricultural-risk
 -management-training-workshop-registration-127218617309
URL:https://www.eventbrite.ca/e/roots-to-success-agricultural-risk-man
 agement-training-workshop-registration-127218617309
CONTACT:
ORGANIZER:Farm Management Canada
ATTACH;FMTTYPE="image/jpeg":
ATTENDEE;ROLE=REQ-PARTICIPANT;PARTSTAT=ACCEPTED;RSVP=TRUE;CN="OntAG Ad
 min":https://ontag.farms.com/profile/OntAGAdmin
END:VEVENT
END:VCALENDAR
