BEGIN:VCALENDAR
PRODID:NingEventWidget-v1
VERSION:2.0
METHOD:PUBLISH
BEGIN:VTIMEZONE
TZID:Pacific/Midway
X-LIC-LOCATION:Pacific/Midway
BEGIN:STANDARD
TZOFFSETFROM:-1100
TZOFFSETTO:-1100
TZNAME:SST
DTSTART:19700101T000000
END:STANDARD
END:VTIMEZONE
BEGIN:VEVENT
UID:3646443:Event:54264
DTSTAMP:20260422T190558Z
SUMMARY:Ont Bean Growers 2014 Twilight Crop Tour
DESCRIPTION:Please join the Ontario Bean Growers on August 28, 2014 fo
 r a tour of the research plots at the Huron Research Station.\nThe Ont
 ario Bean Growers board will be holding their monthly board meeting be
 ginning at 9:00 am at the Research Station and all delegates are welco
 me to attend.\nFollowing lunch, researchers will be invited to make pr
 esentations on edible bean research beginning at 1:00 pm.  All member
 s of Ontario Bean Growers are welcome to attend.\nThe twilight tour be
 gins at 4:00 pm and will be followed by a BBQ.\nPlease RSVP to Theresa
  Brydon at Ontario Bean Growers.  519-318-0162 or accounting@ontariob
 eans.on.ca\nWe look forward to seeing you there!\n\nFor more informati
 on visit https://ontag.farms.com/events/ont-bean-growers-2014-twilight
 -crop-tour
DTSTART;TZID=Pacific/Midway:20140828T160000
DTEND;TZID=Pacific/Midway:20140828T200000
CATEGORIES:twilight, crop, tour
LOCATION:Huron Research Station
WEBSITE:http://ontariobeans.on.ca/
URL:http://ontariobeans.on.ca/
CONTACT:
ORGANIZER:Ontario Bean Growers
ATTACH;FMTTYPE="image/jpeg":http://storage.ning.com/topology/rest/1.0/
 file/get/1091530253?profile=original
ATTENDEE;ROLE=REQ-PARTICIPANT;PARTSTAT=ACCEPTED;RSVP=TRUE;CN="OntAG Ad
 min":https://ontag.farms.com/profile/OntAGAdmin
END:VEVENT
END:VCALENDAR
