BEGIN:VCALENDAR
PRODID:NingEventWidget-v1
VERSION:2.0
METHOD:PUBLISH
BEGIN:VTIMEZONE
TZID:Pacific/Midway
X-LIC-LOCATION:Pacific/Midway
BEGIN:STANDARD
TZOFFSETFROM:-1100
TZOFFSETTO:-1100
TZNAME:SST
DTSTART:19700101T000000
END:STANDARD
END:VTIMEZONE
BEGIN:VEVENT
UID:3646443:Event:102087
DTSTAMP:20260423T223120Z
SUMMARY:Ontario Ag Conference - Share a passion for Ag Learning with y
 our Customers
DESCRIPTION:With the first ever virtual 2021 Ontario Ag Conference (OA
 gC21) just around the corner, don’t miss the chance to share this va
 luable learning opportunity with your customers. The teams from Ontari
 o’s premier crops conferences have “Come Together” to develop a 
 virtual conference platform and program that offers tremendous benefit
 s to anyone involved in crop agriculture across the province. With the
  inability to meet together face to face this winter, the OAgC21 team 
 has left no stone unturned to bring great speakers, sponsors, content 
 and opportunities to Ontario’s crop farmers and all who support them
 .\r\nEasy to use platform will make “on-line learning” effortless 
 for registrants as they navigate from session to session, visit trades
 how sponsors or join the newly added 7 “TEC Talk Tuesdays” startin
 g January 12th. Help us to ensure that people take the opportunity to 
 participate in this event and encourage them to join us starting Janua
 ry 6 & 7th for 3 months of great learning, all from the comfort of the
 ir own home.\r\nThe Ontario Agricultural Conference is a combined effo
 rt of The Southwest Agricultural Conference, Golden Horseshoe and Hear
 tland SCIAs and Eastern Ontario Crop Conferences. AS COVID-19 continue
 s to create many unique challenges including our ability to meet in pe
 rson we are committed to keeping our agricultural community updated wi
 th current and timely information. The combined team is very excited t
 o bring you an incredible line up of speakers, presenting 40 sessions,
  providing attendees with interactive sessions full of the tremendous 
 knowledge and experience they have come to expect.\n\nFor more informa
 tion visit https://ontag.farms.com/events/ontario-ag-conference-share-
 a-passion-for-ag-learning-with-your-c
DTSTART;TZID=Pacific/Midway:20210106T093000
DTEND;TZID=Pacific/Midway:20210107T143000
CATEGORIES:conference
LOCATION:Online
WEBSITE:https://www.southwestagconference.ca/register-here/registering
 /
URL:https://www.southwestagconference.ca/register-here/registering/
CONTACT:
ORGANIZER:OAgC21 Committee
ATTACH;FMTTYPE="image/jpeg":
ATTENDEE;ROLE=REQ-PARTICIPANT;PARTSTAT=ACCEPTED;RSVP=TRUE;CN="OntAG Ad
 min":https://ontag.farms.com/profile/OntAGAdmin
END:VEVENT
END:VCALENDAR
