BEGIN:VCALENDAR
PRODID:NingEventWidget-v1
VERSION:2.0
METHOD:PUBLISH
BEGIN:VTIMEZONE
TZID:Pacific/Midway
X-LIC-LOCATION:Pacific/Midway
BEGIN:STANDARD
TZOFFSETFROM:-1100
TZOFFSETTO:-1100
TZNAME:SST
DTSTART:19700101T000000
END:STANDARD
END:VTIMEZONE
BEGIN:VEVENT
UID:3646443:Event:113080
DTSTAMP:20260421T022135Z
SUMMARY:Ontario Agri-Food Startup Conference
DESCRIPTION:Ontario Agri-Food Startup Conference is one of the economy
  building program which everyone should be part of for the development
  of nation.\r\nThis conference was set up to create an avenue for both
  small scale and large scale farmers either already practicing, or abo
 ut to start practicing or experienced agricultural fellows to find way
 s in Canada to start up their business as a Farmer.\r\nThis conference
  was designed to provide lot of accessibilities for businesses (both r
 esidents and foreign) to plug-in to Ontario Food Processing while foll
 owing the laid down regulations by the Ontario Government with the sup
 port of the Government itself.\r\nFood is known to be very essential i
 n the daily living of human beign as without food, No human even anima
 ls can survive.\r\nLearn More in the upcoming conference, as we are pr
 eparing to offer a strong business and job opportunities to all.\r\n  
 \n\nFor more information visit https://ontag.farms.com/events/ontario-
 agri-food-startup-conference-1
DTSTART;TZID=Pacific/Midway:20240417T120000
DTEND;TZID=Pacific/Midway:20240417T170000
CATEGORIES:conference
LOCATION:Carleton University
WEBSITE:https://www.eventbrite.ca/e/ontario-agri-food-startup-conferen
 ce-registration-458835628717
URL:https://www.eventbrite.ca/e/ontario-agri-food-startup-conference-r
 egistration-458835628717
CONTACT:
ORGANIZER:Aerocone Conference and Conventions Canada.
ATTACH;FMTTYPE="image/jpeg":https://storage.ning.com/topology/rest/1.0
 /file/get/12345411690?profile=original
ATTENDEE;ROLE=REQ-PARTICIPANT;PARTSTAT=ACCEPTED;RSVP=TRUE;CN="OntAG Ad
 min":https://ontag.farms.com/profile/OntAGAdmin
END:VEVENT
END:VCALENDAR
