BEGIN:VCALENDAR
PRODID:NingEventWidget-v1
VERSION:2.0
METHOD:PUBLISH
BEGIN:VTIMEZONE
TZID:Pacific/Midway
X-LIC-LOCATION:Pacific/Midway
BEGIN:STANDARD
TZOFFSETFROM:-1100
TZOFFSETTO:-1100
TZNAME:SST
DTSTART:19700101T000000
END:STANDARD
END:VTIMEZONE
BEGIN:VEVENT
UID:3646443:Event:112962
DTSTAMP:20260421T131452Z
SUMMARY:Ontario Agri-Food Startup Conference
DESCRIPTION:Carleton University will host the second annual Ontario Ag
 ri-Food Startup Conference from June 27th - 29th, 2023. Whether you ar
 e a large or small farmer this conference is for you! Come and learn f
 rom experienced farmers about how to start your business and about the
  regulations surrounding Ontario food processing!\r\nThis conference w
 as set up to create an avenue for both small scale and large scale far
 mers either already practicing, or about to start practicing or experi
 enced agricultural fellows to find ways in Canada to start up their bu
 siness as a Farmer.\r\nThis conference was designed to provide lot of 
 accessibilities for businesses (both residents and foreign) to plug-in
  to Ontario Food Processing while following the laid down regulations 
 by the Ontario Government with the support of the Government itself.\r
 \nFood is known to be very essential in the daily living of human beig
 n as without food, No human even animals can survive.\r\nLearn More in
  the upcoming conference, as we are preparing to offer a strong busine
 ss and job opportunities to all.\r\nDon't miss out, Get your ticket no
 w to attend the conference.\r\nFor Accommodation, book your accommodat
 ion at The Business Inn Hotel in Carledon Ottawa.\r\nFor Visa Purpose,
  Get the premium ticket and send an email to info@aerocone.ca for help
 \r\n \n\nFor more information visit https://ontag.farms.com/events/on
 tario-agri-food-startup-conference
DTSTART;TZID=Pacific/Midway:20230627T120000
DTEND;TZID=Pacific/Midway:20230628T170000
CATEGORIES:conference
LOCATION:Carleton University
WEBSITE:https://www.eventbrite.ca/e/ontario-agri-food-startup-conferen
 ce-registration-458835628717
URL:https://www.eventbrite.ca/e/ontario-agri-food-startup-conference-r
 egistration-458835628717
CONTACT:+1 604-210-5663
ORGANIZER:Carleton University
ATTACH;FMTTYPE="image/jpeg":
ATTENDEE;ROLE=REQ-PARTICIPANT;PARTSTAT=ACCEPTED;RSVP=TRUE;CN="OntAG Ad
 min":https://ontag.farms.com/profile/OntAGAdmin
END:VEVENT
END:VCALENDAR
