BEGIN:VCALENDAR
PRODID:NingEventWidget-v1
VERSION:2.0
METHOD:PUBLISH
BEGIN:VTIMEZONE
TZID:Pacific/Midway
X-LIC-LOCATION:Pacific/Midway
BEGIN:STANDARD
TZOFFSETFROM:-1100
TZOFFSETTO:-1100
TZNAME:SST
DTSTART:19700101T000000
END:STANDARD
END:VTIMEZONE
BEGIN:VEVENT
UID:3646443:Event:109704
DTSTAMP:20260421T130751Z
SUMMARY:Ontario Agricultural Hall of Fame 2022 Induction Ceremony
DESCRIPTION:The 2022 induction ceremony will take place on Sunday, Jun
 e 12, 2022. As long as public policy permits, it will be a hybrid form
 at with the live ceremony held at the GrandWay Events Centre, Grand Ri
 ver Raceway, 7445 Wellington County Rd. 21, Elora. There will also be 
 an option for guests to join us virtually.\r\nRegistration to attend t
 he event in person is $25.00. There is no cost to join virtually howev
 er you must still register. To register for either in person or virtua
 l attendance click here. Registration will close on Friday, June 10, 2
 022.\r\nYou can also register to attend by filling out a registration 
 form and returning it to our office with your payment: Induction Cerem
 ony Registration Form 2022\n\nFor more information visit https://ontag
 .farms.com/events/ontario-agricultural-hall-of-fame-2022-induction-cer
 emony
DTSTART;TZID=Pacific/Midway:20220613T140000
DTEND;TZID=Pacific/Midway:20220613T170000
CATEGORIES:induction, ceremony
LOCATION:GrandWay Events Centre
WEBSITE:https://www.oahf.on.ca/news-2/2020-induction-ceremony/
URL:https://www.oahf.on.ca/news-2/2020-induction-ceremony/
CONTACT:
ORGANIZER:Ontario Agricultural Hall of Fame
ATTACH;FMTTYPE="image/jpeg":https://storage.ning.com/topology/rest/1.0
 /file/get/10500967673?profile=original
ATTENDEE;ROLE=REQ-PARTICIPANT;PARTSTAT=ACCEPTED;RSVP=TRUE;CN="OntAG Ad
 min":https://ontag.farms.com/profile/OntAGAdmin
END:VEVENT
END:VCALENDAR
