BEGIN:VCALENDAR
PRODID:NingEventWidget-v1
VERSION:2.0
METHOD:PUBLISH
BEGIN:VTIMEZONE
TZID:Pacific/Midway
X-LIC-LOCATION:Pacific/Midway
BEGIN:STANDARD
TZOFFSETFROM:-1100
TZOFFSETTO:-1100
TZNAME:SST
DTSTART:19700101T000000
END:STANDARD
END:VTIMEZONE
BEGIN:VEVENT
UID:3646443:Event:58907
DTSTAMP:20260421T221505Z
SUMMARY:Ontario Agriculture Roadshow
DESCRIPTION:As part of our continuing commitment to farm communities a
 nd agribusiness, BDO is pleased to invite you to a complimentary speci
 al information session with lunch on key topics that are affecting the
  farming industry. Chris Koch of ifican.ca will be the keynote speaker
 .\nPlease register online at www.bdo.ca/Ontario-Agriculture-Roadshow o
 r RSVP to Jodi Hutt at jhutt@bdo.ca or 613 692 3501.\n\nTOPICS*:\n\nKe
 ynote speaker — Chris Koch\n\nChris Koch was born and raised in a sm
 all farm and ranching community in Alberta. When he’s not out in the
  field, he’s a motivational speaker allowing him to share his story 
 and experiences in the hopes of encouraging others to live their lives
  to their greatest potential.\nInsurance Coverage — What are you mis
 sing? In partnership with Commonwell Mutual\nAnnual BDO Agriculture Up
 date — The good and the bad\nUpdate on Kemptville Campus (University
  of Guelph) — Honourable Lyle Vanclief\n\n*And other interesting top
 ics about agriculture.\n\n\n\nFor more information visit https://ontag
 .farms.com/events/ontario-agriculture-roadshow-4
DTSTART;TZID=Pacific/Midway:20141218T093000
DTEND;TZID=Pacific/Midway:20141218T150000
CATEGORIES:complimentary, information, session
LOCATION:Carleton Golf & Yacht Club
WEBSITE:
URL:
CONTACT:613 692 3501
ORGANIZER;CN="Genevieve Cavanagh":https://ontag.farms.com/profile/Gene
 vieveCavanagh
ATTACH;FMTTYPE="image/jpeg":http://storage.ning.com/topology/rest/1.0/
 file/get/1091533530?profile=original
ATTENDEE;ROLE=REQ-PARTICIPANT;PARTSTAT=ACCEPTED;RSVP=TRUE;CN="Geneviev
 e Cavanagh":https://ontag.farms.com/profile/GenevieveCavanagh
END:VEVENT
END:VCALENDAR
