BEGIN:VCALENDAR
PRODID:NingEventWidget-v1
VERSION:2.0
METHOD:PUBLISH
BEGIN:VTIMEZONE
TZID:Pacific/Midway
X-LIC-LOCATION:Pacific/Midway
BEGIN:STANDARD
TZOFFSETFROM:-1100
TZOFFSETTO:-1100
TZNAME:SST
DTSTART:19700101T000000
END:STANDARD
END:VTIMEZONE
BEGIN:VEVENT
UID:3646443:Event:105879
DTSTAMP:20260422T081052Z
SUMMARY:Ontario Bean Growers AGM
DESCRIPTION:The Ontario Bean Growers will be hosting their Annual Gene
 ral Meeting on Tuesday, February 23, 2021, from 9:45 am – 12:00 pm.\
 r\nPre-registration is required for the AGM.  Registrants will be ema
 iled a link to participate in the virtual meeting.  Voting members wi
 ll also receive a separate link to the voting platform.\r\nYou must re
 gister for the meeting by Thursday February 11, 2021 at midnight so t
 hat we have time to verify voting eligibility and prepare the registra
 tion list to be shared with Data on the Spot, the company we have enga
 ged to manage voting/elections.\r\nClick here to register.\n\nFor more
  information visit https://ontag.farms.com/events/ontario-bean-growers
 -agm
DTSTART;TZID=Pacific/Midway:20210223T094500
DTEND;TZID=Pacific/Midway:20210223T120000
CATEGORIES:annual, general, meeting
LOCATION:online
WEBSITE:https://ontariobeans.on.ca/growers/resources/agm/
URL:https://ontariobeans.on.ca/growers/resources/agm/
CONTACT:
ORGANIZER:Ontario Federation of Agriculture
ATTACH;FMTTYPE="image/jpeg":
ATTENDEE;ROLE=REQ-PARTICIPANT;PARTSTAT=ACCEPTED;RSVP=TRUE;CN="OntAG Ad
 min":https://ontag.farms.com/profile/OntAGAdmin
END:VEVENT
END:VCALENDAR
