BEGIN:VCALENDAR
PRODID:NingEventWidget-v1
VERSION:2.0
METHOD:PUBLISH
BEGIN:VTIMEZONE
TZID:Pacific/Midway
X-LIC-LOCATION:Pacific/Midway
BEGIN:STANDARD
TZOFFSETFROM:-1100
TZOFFSETTO:-1100
TZNAME:SST
DTSTART:19700101T000000
END:STANDARD
END:VTIMEZONE
BEGIN:VEVENT
UID:3646443:Event:35635
DTSTAMP:20260422T183033Z
SUMMARY:Ontario Beef Industry Convention
DESCRIPTION:15th Annual Ontario Beef Industry Convention, presented by
  the Ontario Cattle Feeders' Association\n\nFor more information visit
  https://ontag.farms.com/events/ontario-beef-industry-convention
DTSTART;TZID=Pacific/Midway:20130110T160000
DTEND;TZID=Pacific/Midway:20130112T130000
CATEGORIES:annual, meeting
LOCATION:Best Western Lamplighter Inn and Conference Centre
WEBSITE:http://www.beefindustryconvention.com/
URL:http://www.beefindustryconvention.com/
CONTACT:
ORGANIZER:Ontario Cattle Feeders Association
ATTACH;FMTTYPE="image/jpeg":
ATTENDEE;ROLE=REQ-PARTICIPANT;PARTSTAT=ACCEPTED;RSVP=TRUE;CN="Blair An
 drews":https://ontag.farms.com/profile/BlairAndrews
END:VEVENT
END:VCALENDAR
