BEGIN:VCALENDAR
PRODID:NingEventWidget-v1
VERSION:2.0
METHOD:PUBLISH
BEGIN:VTIMEZONE
TZID:Pacific/Midway
X-LIC-LOCATION:Pacific/Midway
BEGIN:STANDARD
TZOFFSETFROM:-1100
TZOFFSETTO:-1100
TZNAME:SST
DTSTART:19700101T000000
END:STANDARD
END:VTIMEZONE
BEGIN:VEVENT
UID:3646443:Event:113606
DTSTAMP:20260420T112536Z
SUMMARY:Ontario Biomass Producers Co-op AGM
DESCRIPTION:It's almost time for the Ontario Biomass Producers Co-op A
 GM! Join on Tuesday, March 19th for the OBPC AGM at Country Heritage P
 ark - Puslinch Hall in Milton. Learn about the latest research and mar
 ket updates, and get a chance to chat with fellow producers. Lunch is 
 provided for those attending in person, and the event will also be str
 eamed online.\r\nPlease register here.\r\nCheck out the event Agenda h
 ere.\n\nFor more information visit https://ontag.farms.com/events/onta
 rio-biomass-producers-co-op-agm
DTSTART;TZID=Pacific/Midway:20240319T100000
DTEND;TZID=Pacific/Midway:20240319T143000
CATEGORIES:annual, general, meeting
LOCATION:Country Heritage Park - Puslinch Hall
WEBSITE:https://onforagenetwork.ca/ontario-biomass-producers-co-operat
 ive-inc/
URL:https://onforagenetwork.ca/ontario-biomass-producers-co-operative-
 inc/
CONTACT:
ORGANIZER:Ontario Biomass Producers
ATTACH;FMTTYPE="image/jpeg":https://storage.ning.com/topology/rest/1.0
 /file/get/12398421094?profile=original
ATTENDEE;ROLE=REQ-PARTICIPANT;PARTSTAT=ACCEPTED;RSVP=TRUE;CN="OntAG Ad
 min":https://ontag.farms.com/profile/OntAGAdmin
END:VEVENT
END:VCALENDAR
