BEGIN:VCALENDAR
PRODID:NingEventWidget-v1
VERSION:2.0
METHOD:PUBLISH
BEGIN:VTIMEZONE
TZID:Pacific/Midway
X-LIC-LOCATION:Pacific/Midway
BEGIN:STANDARD
TZOFFSETFROM:-1100
TZOFFSETTO:-1100
TZNAME:SST
DTSTART:19700101T000000
END:STANDARD
END:VTIMEZONE
BEGIN:VEVENT
UID:3646443:Event:73263
DTSTAMP:20260422T122410Z
SUMMARY:Ontario Forage Expo - Dufferin
DESCRIPTION:The Ontario Forage Council, in conjunction with the Duffe
 rin County Soil and Crop Improvement Associations, invite you to part
 icipate Forage Expo 2018! \nDufferin County will host the western lo
 cation on Thursday, July 5th at Mornahan Farms,  115039 Sideroad 
 27 & 28 in Grand Valley.\nThis year’s demonstrations will include e
 quipment from the leaders in forage production equipment.  Attendees 
 will not only have the chance to see what’s new for 2018 but will al
 so have the unique opportunity to witness this equipment in head to he
 ad field trials!  Equipment will include various mowers, conditioners
 , rakes, tedders, windrow inverters, mergers, harvesters, dump wagons,
  large round balers, large square balers, small square bale bundlers, 
 bale wrappers and bale grapplers. This event will provide the opportun
 ity for farmers to view the latest technology available to harvest for
 age quickly with minimal loss and maximum quality.  Ian McDonald and 
 Christine O’Reilly, OMAFRA will be in the field, working with the eq
 uipment companies to provide information to farmers and answer questio
 ns.  This is important in making decisions on investments which ultim
 ately enhance their farm operations in capacity, minimizing harvest lo
 sses, product quality and profitability.\n \nThis event is FREE TO TH
 E FARMING COMMUNITY!  Lunch will be available on-site, and no pre-reg
 istration is required. \n\nFor more information visit https://ontag.f
 arms.com/events/ontario-forage-expo-10
DTSTART;TZID=Pacific/Midway:20180705T100000
DTEND;TZID=Pacific/Midway:20180705T150000
CATEGORIES:equipment, demonstration
LOCATION:Mournahan Farms
WEBSITE:https://www.google.ca/maps/place/115039+Sideroad+27+%26+28,+Gr
 and+Valley,+ON+L0N+1G0/@43.9863126,-80.3627592,17z/data=!3m1!4b1!4m5!3
 m4!1s0x882bb35bba8e368d:0xc5c84937c571e68c!8m2!3d43.9863126!4d-80.3605
 705
URL:https://www.google.ca/maps/place/115039+Sideroad+27+%26+28,+Grand+
 Valley,+ON+L0N+1G0/@43.9863126,-80.3627592,17z/data=!3m1!4b1!4m5!3m4!1
 s0x882bb35bba8e368d:0xc5c84937c571e68c!8m2!3d43.9863126!4d-80.3605705
CONTACT:877-892-8663
ORGANIZER;CN="Ontario Forage Council":https://ontag.farms.com/profile/
 OntarioForageCouncil403
ATTACH;FMTTYPE="image/jpeg":http://storage.ning.com/topology/rest/1.0/
 file/get/1091553171?profile=original
ATTENDEE;ROLE=REQ-PARTICIPANT;PARTSTAT=ACCEPTED;RSVP=TRUE;CN="Ontario 
 Forage Council":https://ontag.farms.com/profile/OntarioForageCouncil40
 3
END:VEVENT
END:VCALENDAR
