BEGIN:VCALENDAR
PRODID:NingEventWidget-v1
VERSION:2.0
METHOD:PUBLISH
BEGIN:VTIMEZONE
TZID:Pacific/Midway
X-LIC-LOCATION:Pacific/Midway
BEGIN:STANDARD
TZOFFSETFROM:-1100
TZOFFSETTO:-1100
TZNAME:SST
DTSTART:19700101T000000
END:STANDARD
END:VTIMEZONE
BEGIN:VEVENT
UID:3646443:Event:75975
DTSTAMP:20260421T163825Z
SUMMARY:Ontario Forage Expo
DESCRIPTION:Perth County will host a location on Tuesday, July 9th at 
 Pendora Dairy Ltd., 6447 Road 164 Monkton, ON\nAdditional details will
  be added to our website: http://www.ontarioforagecouncil.com/programs
 /ontario-forage-expo\nThis year’s demonstrations will include equipm
 ent from the leaders in forage production equipment.  Attendees will 
 not only have the chance to see what’s new for 2019 but will also ha
 ve the unique opportunity to witness this equipment in head to head fi
 eld trials!  Equipment will include various mowers, conditioners, rak
 es, tedders, windrow inverters, mergers, harvesters, dump wagons, larg
 e round balers, large square balers, small square bale bundlers, bale 
 wrappers and bale grapplers. This event will provide the opportunity f
 or farmers to view the latest technology available to harvest forage q
 uickly with minimal loss and maximum quality.  Ian McDonald and Chris
 tine O’Reilly, OMAFRA will be in the field, working with the equipme
 nt companies to provide information to farmers and answer questions. 
  This is important in making decisions on investments which ultimately
  enhance their farm operations in capacity, minimizing harvest losses,
  product quality and profitability.\n \nThis event is FREE TO THE FAR
 MING COMMUNITY!  Lunch will be available on-site at a nominal fee, an
 d no pre-registration is required. \nTrade show, demonstration and sp
 onsorship opportunities are still available for this event.  Spaces a
 re limited and will fill quickly, so don’t hesitate.  Ontario Forag
 e Expo is an excellent opportunity to advertise to a forage focused au
 dience compiled of producers from counties across the province!\n\nFor
  more information visit https://ontag.farms.com/events/ontario-forage-
 expo-11
DTSTART;TZID=Pacific/Midway:20190709T100000
DTEND;TZID=Pacific/Midway:20190709T150000
CATEGORIES:equipment, demonstration
LOCATION:Pendora Dairy Ltd.
WEBSITE:https://www.google.com/maps/place/6447+Rd+164,+Monkton,+ON+N0K
 +1P0/@43.6120008,-81.0448734,12z/data=!4m5!3m4!1s0x882945e82b14c33d:0x
 7a385cde5127aac1!8m2!3d43.6128273!4d-81.0617662
URL:https://www.google.com/maps/place/6447+Rd+164,+Monkton,+ON+N0K+1P0
 /@43.6120008,-81.0448734,12z/data=!4m5!3m4!1s0x882945e82b14c33d:0x7a38
 5cde5127aac1!8m2!3d43.6128273!4d-81.0617662
CONTACT:877-892-8663
ORGANIZER;CN="Ontario Forage Council":https://ontag.farms.com/profile/
 OntarioForageCouncil403
ATTACH;FMTTYPE="image/jpeg":https://storage.ning.com/topology/rest/1.0
 /file/get/1091553316?profile=original
ATTENDEE;ROLE=REQ-PARTICIPANT;PARTSTAT=ACCEPTED;RSVP=TRUE;CN="Ontario 
 Forage Council":https://ontag.farms.com/profile/OntarioForageCouncil40
 3
END:VEVENT
END:VCALENDAR
