BEGIN:VCALENDAR
PRODID:NingEventWidget-v1
VERSION:2.0
METHOD:PUBLISH
BEGIN:VTIMEZONE
TZID:Pacific/Midway
X-LIC-LOCATION:Pacific/Midway
BEGIN:STANDARD
TZOFFSETFROM:-1100
TZOFFSETTO:-1100
TZNAME:SST
DTSTART:19700101T000000
END:STANDARD
END:VTIMEZONE
BEGIN:VEVENT
UID:3646443:Event:60989
DTSTAMP:20260421T092142Z
SUMMARY:Ontario Forage Expo
DESCRIPTION:Join us in celebrating the 10th Anniversary of Ontario For
 age Expo!!!  To mark this occasion, the Ontario Forage Council is int
 roducing a 2nd location for 2015!  On July 7th, Forage Expo will take
  place in Dundas County in the town of Winchester.  Ontowa Farm, farm
 ed by Ralph, Judy, Ryan and Phil Martin, and on July 9th will move to 
 Dundas County where the Westervelts will host the event on Westergreen
  Farm in Elmira.\nSee the latest Forage Equipment Demonstrations, enjo
 y Speakers and visit the Trade Show!\nFREE ADMISSION TO THE FARMING CO
 MMUNITY!\nPlease visit our website for more details! www.ontarioforage
 council.com\n\nFor more information visit https://ontag.farms.com/even
 ts/ontario-forage-expo-3
DTSTART;TZID=Pacific/Midway:20150707T090000
DTEND;TZID=Pacific/Midway:20150707T150000
CATEGORIES:forage, equipment, demonstration
LOCATION:Ontowa Farm
WEBSITE:http://www.ontarioforagecouncil.com/programs/ontario-forage-ex
 po
URL:http://www.ontarioforagecouncil.com/programs/ontario-forage-expo
CONTACT:1-877-892-8663
ORGANIZER;CN="Ontario Forage Council":https://ontag.farms.com/profile/
 OntarioForageCouncil403
ATTACH;FMTTYPE="image/jpeg":http://storage.ning.com/topology/rest/1.0/
 file/get/1091538047?profile=original
ATTENDEE;ROLE=REQ-PARTICIPANT;PARTSTAT=ACCEPTED;RSVP=TRUE;CN="Ontario 
 Forage Council":https://ontag.farms.com/profile/OntarioForageCouncil40
 3
END:VEVENT
END:VCALENDAR
