BEGIN:VCALENDAR
PRODID:NingEventWidget-v1
VERSION:2.0
METHOD:PUBLISH
BEGIN:VTIMEZONE
TZID:Pacific/Midway
X-LIC-LOCATION:Pacific/Midway
BEGIN:STANDARD
TZOFFSETFROM:-1100
TZOFFSETTO:-1100
TZNAME:SST
DTSTART:19700101T000000
END:STANDARD
END:VTIMEZONE
BEGIN:VEVENT
UID:3646443:Event:72516
DTSTAMP:20260421T204929Z
SUMMARY:Ontario Forage Expo
DESCRIPTION:The Ontario Forage Council, in conjunction with the Duffer
 in and Northumberland County Soil and Crop Improvement Associations,i
 nvite you to participate Forage Expo 2018! \r\nDufferin County will h
 ost the western location on Thursday, July 5th at Brakke Farm Inc, in 
 Grand Valley, and Northumberlad Countywill host the eastern location
  at Loval Farms, on July 10th in Warkwoth.\r\n\r\nSponsorship Opportun
 ities\r\nDemonstrator Form\r\nExhibitor Form \n\nFor more information
  visit https://ontag.farms.com/events/ontario-forage-expo-9
DTSTART;TZID=Pacific/Midway:20180705T100000
DTEND;TZID=Pacific/Midway:20180705T150000
CATEGORIES:expo
LOCATION:Brakke Farm Inc
WEBSITE:http://www.ontarioforagecouncil.com/programs/ontario-forage-ex
 po
URL:http://www.ontarioforagecouncil.com/programs/ontario-forage-expo
CONTACT:1-877-892-8663 or (519) 986-1484, Fax: (519) 986-2643
ORGANIZER:Dufferin and Northumberland County Soil and Crop Improvement
  Associations
ATTACH;FMTTYPE="image/jpeg":http://storage.ning.com/topology/rest/1.0/
 file/get/1091551464?profile=original
ATTENDEE;ROLE=REQ-PARTICIPANT;PARTSTAT=ACCEPTED;RSVP=TRUE;CN="OntAG Ad
 min":https://ontag.farms.com/profile/OntAGAdmin
END:VEVENT
END:VCALENDAR
