BEGIN:VCALENDAR
PRODID:NingEventWidget-v1
VERSION:2.0
METHOD:PUBLISH
BEGIN:VTIMEZONE
TZID:Pacific/Midway
X-LIC-LOCATION:Pacific/Midway
BEGIN:STANDARD
TZOFFSETFROM:-1100
TZOFFSETTO:-1100
TZNAME:SST
DTSTART:19700101T000000
END:STANDARD
END:VTIMEZONE
BEGIN:VEVENT
UID:3646443:Event:3777
DTSTAMP:20260419T155642Z
SUMMARY:Ontario Fruit and Vegetable Convention
DESCRIPTION:Canada's premier horticultural event featuring informative
  sessions, workshps and trade show with close to 150 exhibitors!\n\nPr
 e-register by February 16, 2010\n$65.00/day or $95.00 for both days\nO
 n-site registration\n$75.00/day or $105 for both days\n\nFor more info
 rmation visit https://ontag.farms.com/events/ontario-fruit-and-vegetab
 le
DTSTART;TZID=Pacific/Midway:20100224T000000
DTEND;TZID=Pacific/Midway:20100225T235900
CATEGORIES:convention
LOCATION:Brock University
WEBSITE:http://www.ofvc.ca
URL:http://www.ofvc.ca
CONTACT:905-945-5363
ORGANIZER:Ontaro Fruit and Vegetable Convention
ATTACH;FMTTYPE="image/jpeg":http://storage.ning.com/topology/rest/1.0/
 file/get/1091502160?profile=original
ATTENDEE;ROLE=REQ-PARTICIPANT;PARTSTAT=ACCEPTED;RSVP=TRUE;CN="David Ko
 priva":https://ontag.farms.com/profile/DavidKopriva
ATTENDEE;ROLE=REQ-PARTICIPANT;PARTSTAT=ACCEPTED;RSVP=TRUE;CN=ontarioto
 mato:https://ontag.farms.com/profile/ontariotomato
END:VEVENT
END:VCALENDAR
