BEGIN:VCALENDAR
PRODID:NingEventWidget-v1
VERSION:2.0
METHOD:PUBLISH
BEGIN:VTIMEZONE
TZID:Pacific/Midway
X-LIC-LOCATION:Pacific/Midway
BEGIN:STANDARD
TZOFFSETFROM:-1100
TZOFFSETTO:-1100
TZNAME:SST
DTSTART:19700101T000000
END:STANDARD
END:VTIMEZONE
BEGIN:VEVENT
UID:3646443:Event:78512
DTSTAMP:20260419T062908Z
SUMMARY:Ontario Hay and Forage Co-operative inc - AGM
DESCRIPTION:Just a friendly reminder to register for the Ontario Hay a
 nd Forage AGM!  If you prefer to register by phone, please call Patri
 cia at 1-877-892-8663.  Exhibitor opportunities are still available f
 or this event.  Attendee and exhibitor spaces are available on a firs
 t-come, first-served basis, so don’t hesitate!\r\n \r\nIn addition 
 to co-op business and elections, you will be treated to some fantastic
  speakers and panelists.  Don't miss Ian MacDonald's introduction of 
 a mentorship program for hay producers or the panel of cash crop farme
 rs!\r\n \r\nRefreshments as well as a hot lasagna lunch from La Rose 
 Bakery will be served.  Admission to attend is $10/person, and if you
  bring a guest that signs up for a membership, you will be entered to 
 win a moisture probe (approx. $300 value)!\r\n \r\nClick here to Regi
 ster and see the full Agenda!\r\n \r\nParking Instructions for Herita
 ge Country Park\r\n**Please note: If you GPS Country Heritage Park, pl
 ease use Postal Code L9T 2X3  *Attention members bringing guests! If y
 our guest purchases a membership in the co-op, your name will be enter
 ed to win a moisture probe (estimated value of $300)   REGISTRATION IS
  REQUIRED Admission charge is $10/person, payable by cash or cheque at
  the door To Register online, please go to www.ontariohay.ca If you re
 quire any assistance, or to register by phone, please contact Patricia
  at 877-892-8663.\n\nFor more information visit https://ontag.farms.co
 m/events/ontario-hay-and-forage-co-operative-inc-agm
DTSTART;TZID=Pacific/Midway:20200303T100000
DTEND;TZID=Pacific/Midway:20200303T150000
CATEGORIES:annual, general, meeting
LOCATION:Country Heritage Park
WEBSITE:http://www.ontariohay.ca
URL:http://www.ontariohay.ca
CONTACT:877-892-8663.
ORGANIZER:Ontario Hay and Forage Co-operative inc
ATTACH;FMTTYPE="image/jpeg":
ATTENDEE;ROLE=REQ-PARTICIPANT;PARTSTAT=ACCEPTED;RSVP=TRUE;CN="OntAG Ad
 min":https://ontag.farms.com/profile/OntAGAdmin
END:VEVENT
END:VCALENDAR
