BEGIN:VCALENDAR
PRODID:NingEventWidget-v1
VERSION:2.0
METHOD:PUBLISH
BEGIN:VTIMEZONE
TZID:Pacific/Midway
X-LIC-LOCATION:Pacific/Midway
BEGIN:STANDARD
TZOFFSETFROM:-1100
TZOFFSETTO:-1100
TZNAME:SST
DTSTART:19700101T000000
END:STANDARD
END:VTIMEZONE
BEGIN:VEVENT
UID:3646443:Event:75073
DTSTAMP:20260420T092142Z
SUMMARY:Ontario Hay and Forage Cooperative AGM
DESCRIPTION:Join us to hear all of the work the Board of Directors has
  been doing on your behalf this year. \nExciting updates and grower o
 pportunities!!\nClick here to Register, or see the Agenda\n\nFor more 
 information visit https://ontag.farms.com/events/ontario-hay-and-forag
 e-cooperative-agm
DTSTART;TZID=Pacific/Midway:20190301T110000
DTEND;TZID=Pacific/Midway:20190301T150000
CATEGORIES:agm
LOCATION:Mohawk Inn
WEBSITE:https://ontariohayandforagecooperativeinc.wildapricot.org/even
 t-3258755
URL:https://ontariohayandforagecooperativeinc.wildapricot.org/event-32
 58755
CONTACT:877-892-8663
ORGANIZER:Ontario Hay and Forage Cooperative Inc
ATTACH;FMTTYPE="image/jpeg":https://storage.ning.com/topology/rest/1.0
 /file/get/1034701708?profile=original
ATTENDEE;ROLE=REQ-PARTICIPANT;PARTSTAT=ACCEPTED;RSVP=TRUE;CN="Ontario 
 Forage Council":https://ontag.farms.com/profile/OntarioForageCouncil40
 3
END:VEVENT
END:VCALENDAR
